Workbook

Sheet INDICADORES FINANCIEROS
B2: LABS TRANSPORTE DE CARGA SAS
B3: NIT. 9 0 0 6 7 3 3 6 1 - 6
B5: ESTADO DE RESULTADO COMPARATIVO 2017 VS 2016
B7: CUENTAS | C7: 2017 | D7: ANALISIS VERTICAL | E7: ANALISIS HORIZONTAL | F7: 2016 | G7: ANALISIS VERTICAL
B8: INGRESOS OPERACIONALES | C8: ='ER 2017'!C10 -> 1148878000 | D8: =(C8/$C$8)*100% -> 1 | E8: =((C8/F8)-1)*100% -> 0.73262292 | F8: =' ER 2016'!C10 -> 663086000 | G8: =(F8/$F$8)/100% -> 1
B9: COSTO DE VENTAS | C9: ='ER 2017'!C33 -> 1010660000 | D9: =(C9/$C$8)*100% -> 0.87969306 | E9: =((C9/F9)-1)*100% -> 0.77447305 | F9: =' ER 2016'!C31 -> 569555000 | G9: =(F9/$F$8)/100% -> 0.8589459
B10: UTILIDAD BRUTA | C10: ='ER 2017'!C35 -> 138218000 | D10: =(C10/$C$8)*100% -> 0.12030694 | E10: =((C10/F10)-1)*100% -> 0.47777742 | F10: =' ER 2016'!C33 -> 93531000 | G10: =(F10/$F$8)/100% -> 0.1410541
B11: GASTOS OPERACIONALES DE ADMINISTRACION | C11: ='ER 2017'!C50 -> 76822000 | D11: =(C11/$C$8)*100% -> 0.066866978 | E11: =((C11/F11)-1)*100% -> 0.40025154 | F11: =' ER 2016'!C44 -> 54863000 | G11: =(F11/$F$8)/100% -> 0.082738891
B12: GASTOS OPERACIONALES DE VENTAS | C12: ='ER 2017'!C56 -> 1225000 | D12: =(C12/$C$8)*100% -> 0.0010662577 | E12: =((C12/F12)-1)*100% -> 3.2982456 | F12: =' ER 2016'!C48 -> 285000 | G12: =(F12/$F$8)/100% -> 0.0004298085
B13: UTILIDAD OPERACIONAL | C13: ='ER 2017'!C60 -> 60171000 | D13: =(C13/$C$8)*100% -> 0.052373707 | E13: =((C13/F13)-1)*100% -> 0.56764714 | F13: =' ER 2016'!C52 -> 38383000 | G13: =(F13/$F$8)/100% -> 0.057885402
B14: INGRESOS NO OPERACIONALES | C14: ='ER 2017'!C73 -> 756000 | D14: =(C14/$C$8)*100% -> 0.00065803332 | E14: 0 | G14: =(F14/$F$8)/100% -> 0
B15: GASTOS NO OPERACIONALES | C15: ='ER 2017'!C78 -> 13083000 | D15: =(C15/$C$8)*100% -> 0.011387632 | E15: =((C15/F15)-1)*100% -> 4.4649123 | F15: =' ER 2016'!C63 -> 2394000 | G15: =(F15/$F$8)/100% -> 0.0036103914
B16: UTILIDAD ANTES DE IMPUESTO | C16: ='ER 2017'!C80 -> 47844000 | D16: =(C16/$C$8)*100% -> 0.041644108 | E16: =((C16/F16)-1)*100% -> 0.32940621 | F16: =' ER 2016'!C65 -> 35989000 | G16: =(F16/$F$8)/100% -> 0.054275011
B17: CREE | D17: =(C17/$C$8)*100% -> 0 | E17: =((C17/F17)-1)*100% -> -1 | F17: =' ER 2016'!B69 -> 3239000 | G17: =(F17/$F$8)/100% -> 0.0048847359
B18: IMPUESTO DE RENTA | C18: ='ER 2017'!B83 -> 16267000 | D18: =(C18/$C$8)*100% -> 0.014159032 | E18: =((C18/F18)-1)*100% -> 0.80804713 | F18: =' ER 2016'!B68 -> 8997000 | G18: =(F18/$F$8)/100% -> 0.013568376
B19: UTILIDAD NETA | C19: ='ER 2017'!C86 -> 31577000 | D19: =(C19/$C$8)*100% -> 0.027485077 | E19: =((C19/F19)-1)*100% -> 0.32938997 | F19: =' ER 2016'!C72 -> 23753000 | G19: =(F19/$F$8)/100% -> 0.035821899
B21: ESTADO DE RESULTADO COMPARATIVO 2016 VS 2015
B23: CUENTAS | C23: 2016 | D23: ANALISIS VERTICAL | E23: ANALISIS HORIZONTAL | F23: 2015 | G23: ANALISIS VERTICAL
B24: INGRESOS OPERACIONALES | C24: =F8 -> 663086000 | D24: =(C24/$C$24)*100% -> 1 | E24: =((C24/F24)-1)*100% -> 0.92678022 | F24: ='ER 2015'!C11 -> 344142000 | G24: =(F24/$F$24)*100% -> 1
B25: COSTO DE VENTAS | C25: =F9 -> 569555000 | D25: =(C25/$C$24)*100% -> 0.8589459 | E25: =((C25/F25)-1)*100% -> 1.3401209 | F25: ='ER 2015'!C22 -> 243387000 | G25: =(F25/$F$24)*100% -> 0.70722841
B26: UTILIDAD BRUTA | C26: =F10 -> 93531000 | D26: =(C26/$C$24)*100% -> 0.1410541 | E26: =((C26/F26)-1)*100% -> -0.071698675 | F26: ='ER 2015'!C24 -> 100755000 | G26: =(F26/$F$24)*100% -> 0.29277159
B27: GASTOS OPERACIONALES DE ADMIN. | C27: =F11 -> 54863000 | D27: =(C27/$C$24)*100% -> 0.082738891 | E27: =((C27/F27)-1)*100% -> 0.92211751 | F27: ='ER 2015'!C32 -> 28543000 | G27: =(F27/$F$24)*100% -> 0.082939601
B28: GASTOS OPERACIONALES DE VENTAS | C28: =F12 -> 285000 | D28: =(C28/$C$24)*100% -> 0.0004298085 | E28: 0 | G28: =(F28/$F$24)*100% -> 0
B29: UTILIDAD OPERACIONAL | C29: =F13 -> 38383000 | D29: =(C29/$C$24)*100% -> 0.057885402 | E29: =((C29/F29)-1)*100% -> -0.46846784 | F29: ='ER 2015'!C36 -> 72212000 | G29: =(F29/$F$24)*100% -> 0.20983199
B30: INGRESOS NO OPERACIONALES | D30: =(C30/$C$24)*100% -> 0 | E30: =((C30/F30)-1)*100% -> -1 | F30: ='ER 2015'!B39 -> 25000 | G30: =(F30/$F$24)*100% -> 7.2644432e-05
B31: GASTOS NO OPERACIONALES | C31: =F15 -> 2394000 | D31: =(C31/$C$24)*100% -> 0.0036103914 | E31: =((C31/F31)-1)*100% -> -0.30729167 | F31: ='ER 2015'!C44 -> 3456000 | G31: =(F31/$F$24)*100% -> 0.010042366
B32: UTILIDAD ANTES DE IMPUESTO | C32: =F16 -> 35989000 | D32: =(C32/$C$24)*100% -> 0.054275011 | E32: =((C32/F32)-1)*100% -> -0.47675957 | F32: ='ER 2015'!C46 -> 68781000 | G32: =(F32/$F$24)*100% -> 0.19986227
B33: CREE | C33: =F17 -> 3239000 | D33: =(C33/$C$24)*100% -> 0.0048847359 | E33: =((C33/F33)-1)*100% -> -0.14039278 | F33: ='ER 2015'!B50 -> 3768000 | G33: =(F33/$F$24)*100% -> 0.010948969
B34: IMPUESTO DE RENTA | C34: =F18 -> 8997000 | D34: =(C34/$C$24)*100% -> 0.013568376 | E34: =((C34/F34)-1)*100% -> -0.4767665 | F34: ='ER 2015'!B49 -> 17195000 | G34: =(F34/$F$24)*100% -> 0.04996484
B35: UTILIDAD NETA | C35: =F19 -> 23753000 | D35: =(C35/$C$24)*100% -> 0.035821899 | E35: =((C35/F35)-1)*100% -> -0.50326237 | F35: ='ER 2015'!C53 -> 47818000 | G35: =(F35/$F$24)*100% -> 0.13894846
B37: ESTADO DE RESULTADO COMPARATIVO 2015 VS 2014 (En Miles de Pesos)
B39: CUENTAS | C39: 2015 | D39: ANALISIS VERTICAL | E39: ANALISIS HORIZONTAL | F39: 2014 | G39: ANALISIS VERTICAL
B40: INGRESOS OPERACIONALES | C40: =F24 -> 344142000 | D40: =(C40/$C$40)*100% -> 1 | E40: =((C40/F40)-1)*100% -> 4.5524685 | F40: ='ER 2014'!C9 -> 61980000 | G40: =(F40/$F$40)*100% -> 1
B41: COSTO DE VENTAS | C41: =F25 -> 243387000 | D41: =(C41/$C$40)*100% -> 0.70722841 | E41: =((C41/F41)-1)*100% -> 3.6922499 | F41: ='ER 2014'!C22 -> 51870000 | G41: =(F41/$F$40)*100% -> 0.83688287
B42: UTILIDAD BRUTA | C42: =F26 -> 100755000 | D42: =(C42/$C$40)*100% -> 0.29277159 | E42: =((C42/F42)-1)*100% -> 8.9658754 | F42: ='ER 2014'!C24 -> 10110000 | G42: =(F42/$F$40)*100% -> 0.16311713
B43: GASTOS OPERACIONALES DE ADMIN. | C43: =F27 -> 28543000 | D43: =(C43/$C$40)*100% -> 0.082939601 | E43: =((C43/F43)-1)*100% -> 13.743285 | F43: ='ER 2014'!C32 -> 1936000 | G43: =(F43/$F$40)*100% -> 0.031235883
B44: UTILIDAD OPERACIONAL | C44: =F29 -> 72212000 | D44: =(C44/$C$40)*100% -> 0.20983199 | E44: =((C44/F44)-1)*100% -> 7.8343528 | F44: ='ER 2014'!C36 -> 8174000 | G44: =(F44/$F$40)*100% -> 0.13188125
B45: INGRESOS NO OPERACIONALES | C45: =F30 -> 25000 | D45: =(C45/$C$40)*100% -> 7.2644432e-05 | E45: 0 | G45: =(F45/$F$40)*100% -> 0
B46: GASTOS NO OPERACIONALES | C46: =F31 -> 3456000 | D46: =(C46/$C$40)*100% -> 0.010042366 | E46: 0 | G46: =(F46/$F$40)*100% -> 0
B47: UTILIDAD ANTES DE IMPUESTO | C47: =F32 -> 68781000 | D47: =(C47/$C$40)*100% -> 0.19986227 | E47: =((C47/F47)-1)*100% -> 7.4146073 | F47: =F44 -> 8174000 | G47: =(F47/$F$40)*100% -> 0.13188125
...

Sheet EST. RESUL. HIST.
B2: LABS TRANSPORTE DE CARGA SAS
B3: NIT. 9 0 0 6 7 3 3 6 1 - 6
B5: ESTADO DE RESULTADO HISTÓRICO 2014-2017
B7: CUENTAS | C7: 2017 | D7: 2016 | E7: 2015 | F7: 2014
B8: INGRESOS OPERACIONALES | C8: ='ER 2017'!C10 -> 1148878000 | D8: =' ER 2016'!C10 -> 663086000 | E8: ='INDICADORES FINANCIEROS'!C40 -> 344142000 | F8: ='INDICADORES FINANCIEROS'!F40 -> 61980000
B9: COSTO DE VENTAS | C9: ='ER 2017'!C33 -> 1010660000 | D9: =' ER 2016'!C31 -> 569555000 | E9: ='INDICADORES FINANCIEROS'!C41 -> 243387000 | F9: ='INDICADORES FINANCIEROS'!F41 -> 51870000
B10: UTILIDAD BRUTA | C10: ='ER 2017'!C35 -> 138218000 | D10: =' ER 2016'!C33 -> 93531000 | E10: ='INDICADORES FINANCIEROS'!C42 -> 100755000 | F10: ='INDICADORES FINANCIEROS'!F42 -> 10110000
B11: GASTOS OPERACIONALES DE ADMINISTRACION | C11: ='ER 2017'!C50 -> 76822000 | D11: =' ER 2016'!C44 -> 54863000 | E11: ='INDICADORES FINANCIEROS'!C43 -> 28543000 | F11: ='INDICADORES FINANCIEROS'!F43 -> 1936000
B12: GASTOS OPERACIONALES DE VENTAS | C12: ='ER 2017'!C56 -> 1225000 | D12: =' ER 2016'!C48 -> 285000 | E12: 0 | F12: ='ER 2014'!H2 -> 0
B13: UTILIDAD OPERACIONAL | C13: ='ER 2017'!C60 -> 60171000 | D13: =' ER 2016'!C52 -> 38383000 | E13: ='INDICADORES FINANCIEROS'!C44 -> 72212000 | F13: ='INDICADORES FINANCIEROS'!F44 -> 8174000
B14: INGRESOS NO OPERACIONALES | C14: ='ER 2017'!C73 -> 756000 | E14: ='INDICADORES FINANCIEROS'!C45 -> 25000 | F14: ='INDICADORES FINANCIEROS'!F45 -> 0
B15: GASTOS NO OPERACIONALES | C15: ='ER 2017'!C78 -> 13083000 | D15: =' ER 2016'!C63 -> 2394000 | E15: ='INDICADORES FINANCIEROS'!C46 -> 3456000 | F15: ='INDICADORES FINANCIEROS'!F46 -> 0
B16: UTILIDAD ANTES DE IMPUESTO | C16: ='ER 2017'!C80 -> 47844000 | D16: =' ER 2016'!C65 -> 35989000 | E16: ='INDICADORES FINANCIEROS'!C47 -> 68781000 | F16: ='INDICADORES FINANCIEROS'!F47 -> 8174000
B17: CREE | D17: =' ER 2016'!B69 -> 3239000 | E17: ='INDICADORES FINANCIEROS'!C48 -> 3768000 | F17: ='INDICADORES FINANCIEROS'!F48 -> 0
B18: IMPUESTO DE RENTA | C18: ='ER 2017'!B83 -> 16267000 | D18: =' ER 2016'!B68 -> 8997000 | E18: ='INDICADORES FINANCIEROS'!C49 -> 17195000 | F18: ='INDICADORES FINANCIEROS'!F49 -> 0
B19: UTILIDAD NETA | C19: ='ER 2017'!C86 -> 31577000 | D19: =' ER 2016'!C72 -> 23753000 | E19: ='INDICADORES FINANCIEROS'!C50 -> 47818000 | F19: ='INDICADORES FINANCIEROS'!F50 -> 8174000

Sheet FLUJOS DE CAJA
A1: LABS TRANSPORTE DE CARGA SAS | C1: LABS TRANSPORTE DE CARGA SAS | E1: LABS TRANSPORTE DE CARGA SAS
A2: NIT. 9 0 0 6 7 3 3 6 1 - 6 | C2: NIT. 9 0 0 6 7 3 3 6 1 - 6 | E2: NIT. 9 0 0 6 7 3 3 6 1 - 6
A3: ESTADO DE FLUJOS DE EFECTIVO CONSOLIDADO | C3: ESTADO DE FLUJOS DE EFECTIVO CONSOLIDADO | E3: ESTADO DE FLUJOS DE EFECTIVO CONSOLIDADO
A4: A DICIEMBRE 31 DE 2017 | C4: A DICIEMBRE 31 DE 2016 | E4: A DICIEMBRE 31 DE 2015
A6: Flujo de Caja Operativo | C6: Flujo de Caja Operativo | E6: Flujo de Caja Operativo
A7: Utilidad Operacional | B7: =+'INDICADORES FINANCIEROS'!C13 -> 60171000 | C7: Utilidad Operacional | D7: =+' ER 2016'!C52 -> 38383000 | E7: Utilidad Operacional | F7: =+'ER 2015'!C36 -> 72212000
A8: Depreciaciones | B8: =+'ER 2017'!B32+'ER 2017'!B48 -> 150953000 | C8: Depreciaciones | D8: =+' ER 2016'!B29 -> 35110000 | E8: Depreciaciones | F8: =+'ER 2017'!F32+'ER 2017'!F48 -> 0
A9: Impuesto de renta | B9: =-'ESF CONSOLI 17-16'!C78 -> -12236000 | C9: Impuesto de renta | D9: =-'ER 2015'!C51 -> -20963000 | E9: Impuesto de renta | F9: =-'BALANCE 2014'!C41 -> -2780000
A10: Ingresos no operacionales | B10: =+'ER 2017'!C73 -> 756000 | C10: Ingresos no operacionales | E10: Ingresos no operacionales | F10: =+'ER 2015'!B39 -> 25000
A11: Gastos no operacionales | B11: =-'ER 2017'!C78 -> -13083000 | C11: Gastos no operacionales | D11: =-' ER 2016'!C63 -> -2394000 | E11: Gastos no operacionales | F11: =-'ER 2015'!B43 -> -3456000
A13: Variación del Capital de Trabajo | C13: Variación del Capital de Trabajo | E13: Variación del Capital de Trabajo
A14: Variacion Cuentas Comerciales por Cobrar | B14: =-'ESF CONSOLI 17-16'!D14 -> -105477000 | C14: Variacion Cuentas Comerciales por Cobrar | D14: =-'ESF CONSOLI 16-15'!D14 -> -77704000 | E14: Variacion Cuentas Comerciales por Cobrar | F14: =+-'ESF CONSOLI 15-14'!D14 -> -27351000
A15: Variacion Cuentas por cobrar a Socios y accionistas | B15: =-'ESF CONSOLI 17-16'!D16 -> -116900000 | C15: Variacion Cuentas por cobrar a Socios y accionistas | D15: =-'ESF CONSOLI 16-15'!D15 -> -5358000 | E15: Variacion Cuentas por cobrar a Socios y accionistas | F15: =-'ESF CONSOLI 17-16'!G16 -> 0
A16: Varacion anticipos y avances entregados | B16: =-'ESF CONSOLI 17-16'!D15 -> -63610000 | C16: Varacion anticipos y avances entregados | D16: =-'ESF CONSOLI 16-15'!D16 -> 0 | E16: Varacion anticipos y avances entregados | F16: =-'ESF CONSOLI 17-16'!G15 -> 0
A17: Variacion activos por impuestos corrientes | B17: =-'ESF CONSOLI 17-16'!D17 -> -4040000 | C17: Variacion activos por impuestos corrientes | D17: =-'ESF CONSOLI 16-15'!D17 -> -6255000 | E17: Variacion activos por impuestos corrientes | F17: =-'ESF CONSOLI 15-14'!D17 -> -5621000
A18: Variacion proveedores | B18: =+'ESF CONSOLI 17-16'!D59 -> -7923000 | C18: Variacion proveedores | D18: =+'ESF CONSOLI 16-15'!D56 -> 38622000 | E18: Variacion proveedores | F18: =+'ESF CONSOLI 15-14'!D42 -> -29729000
A19: Variacion Obligaciones Financieras | B19: =+'ESF CONSOLI 17-16'!D55 -> 53044000 | C19: Variacion Obligaciones Financieras | D19: =+'ESF CONSOLI 17-16'!E55 -> 0 | E19: Variacion Obligaciones Financieras | F19: =+'ESF CONSOLI 17-16'!G55 -> 0
A20: Variacion cuentas comerciales por pagar y otras cuentas por pagar | B20: =SUM('ESF CONSOLI 17-16'!D63:D66) -> -70300000 | C20: Variacion cuentas comerciales por pagar y otras cuentas por pagar | D20: =+SUM('ESF CONSOLI 16-15'!D60:D64) -> -32712000 | E20: Variacion cuentas comerciales por pagar y otras cuentas por pagar | F20: =+'ESF CONSOLI 15-14'!D51 -> 104076000
A21: Variacion otros pasivos | B21: =+SUM('ESF CONSOLI 17-16'!D70:D72) -> 140856000 | C21: Variacion otros pasivos | D21: =+'ESF CONSOLI 16-15'!D68+'ESF CONSOLI 16-15'!D70 -> 39858000 | E21: Variacion otros pasivos | F21: =+SUM('ESF CONSOLI 17-16'!G70:G72) -> 0
A22: Variación del Capital de Trabajo | B22: =SUM(B14:B21) -> -174350000 | C22: Variación del Capital de Trabajo | D22: =SUM(D14:D21) -> -43549000 | E22: Variación del Capital de Trabajo | F22: =SUM(F14:F21) -> 41375000
A23: Neto Flujo de Caja Operativo | B23: =+B7+B8+B10+B11+B22+B9 -> 12211000 | C23: Neto Flujo de Caja Operativo | D23: =+D7+D8+D10+D11+D22+D9 -> 6587000 | E23: Neto Flujo de Caja Operativo | F23: =+F7+F8+F10+F11+F22+F9 -> 107376000
A25: Flujo de Caja Inversión | C25: Flujo de Caja Inversión | E25: Flujo de Caja Inversión
A26: Inversión Muebles y enseres | B26: 0 | C26: Inversión Muebles y enseres | D26: =-'ESF 2016'!C26 -> -1730000 | E26: Inversión Muebles y enseres | F26: =-'ESF CONSOLI 17-16'!G41 -> 0
A27: Inversión equipo de procesamiento de datos | B27: 0 | C27: Inversión equipo de procesamiento de datos | D27: =-'ESF 2016'!C30 -> -2800000 | E27: Inversión equipo de procesamiento de datos
A28: Inversión Flota y Equipo de transporte | C28: Inversión Flota y Equipo de transporte | E28: Inversión Flota y Equipo de transporte | F28: =-'ESF CONSOLI 15-14'!D26 -> -151100000
A29: Inversión intangibles | B29: =-'ESF CONSOLI 17-16'!D41 -> -2590000 | C29: Inversión intangibles | D29: =-'ESF CONSOLI 16-15'!D41 -> -1469000 | E29: Inversión intangibles
A31: Neto Flujo de Caja Inversión | B31: =+B29 -> -2590000 | C31: Neto Flujo de Caja Inversión | D31: =+D26+D27+D29 -> -5999000 | E31: Neto Flujo de Caja Inversión | F31: =+F26+F27+F29+F28 -> -151100000
A33: Flujo de Caja Financiamiento | C33: Flujo de Caja Financiamiento | E33: Flujo de Caja Financiamiento
A34: Variacion Pasivo Largo Plazo | C34: Variacion Pasivo Largo Plazo | E34: Variacion Pasivo Largo Plazo
A35: Pago dividendos | C35: Pago dividendos | E35: Pago dividendos
A36: Neto Flujo de Caja Financiamiento | C36: Neto Flujo de Caja Financiamiento | E36: Neto Flujo de Caja Financiamiento
A38: Neto Periodo | B38: =+B23+B31+B36 -> 9621000 | C38: Neto Periodo | D38: =+D23+D31+D36 -> 588000 | E38: Neto Periodo | F38: =+F23+F31+F36 -> -43724000
A39: Saldo anterior | B39: =+'ESF CONSOLI 17-16'!C11 -> 3653000 | C39: Saldo anterior | D39: =+'ESF 2015'!C12 -> 3065000 | E39: Saldo anterior | F39: =+'ESF CONSOLI 15-14'!C11 -> 46789000
A40: Saldo siguiente | B40: =+B38+B39 -> 13274000 | C40: Saldo siguiente | D40: =+D38+D39 -> 3653000 | E40: Saldo siguiente | F40: =+F38+F39 -> 3065000
A43: Resultado:
A44: El flujo de caja histórico demuestra que para el año 2017 tuvo un crecimiento donde la empresa cuenta con caja para soportar la atención del servicio de la deuda y el reparto de utilidades, entre otras. Este comportamiento puede deberse a que la empresa ha tomado decisiones para propender el aumento del flujo de caja y la tasa de descuento

Sheet ESF CONSOLI 17-16
A1: LABS TRANSPORTE DE CARGA SAS
A2: NIT. 9 0 0 6 7 3 3 6 1 - 6
A4: ESTADO DE SITUACION FINANCIERA CONSOLIDADO
A6: ACTIVO | B6: 2017 | C6: 2016 | D6: VARIACION
A7: ACTIVO CORRIENTE
A8: EFECTIVO Y EQUIVALENTES DE EFECTIVO
A9: Caja | B9: 2419000 | C9: =+'ESF 2016'!B10 -> 883000 | D9: =+B9-C9 -> 1536000
A10: Bancolombia Cuenta de ahorros N° 26215832111 | B10: 10855000 | C10: =+'ESF 2016'!B11 -> 2770000 | D10: =+B10-C10 -> 8085000
A11: TOTAL EFECTIVO Y EQUIVALENTES DE EFECTIVO | B11: =SUM(B9:B10) -> 13274000 | C11: =SUM(C9:C10) -> 3653000
A13: CUENTAS COMERCIALES Y OTRAS CUENTAS POR COBRAR
A14: Clientes | B14: 221026000 | C14: =+'ESF 2016'!B15 -> 115549000 | D14: =+B14-C14 -> 105477000
A15: Anticipos y avances | B15: 68968000 | C15: =+'ESF 2016'!B16 -> 5358000 | D15: =+B15-C15 -> 63610000
A16: Cuentas por cobrar a socios y accionistas | B16: 116900000 | D16: =+B16-C16 -> 116900000
A17: Anticipos de Impuestos y Contribuciones | B17: 16536000 | C17: =+'ESF 2016'!B17 -> 12496000 | D17: =+B17-C17 -> 4040000
A18: TOTAL CUENTAS COMERCIALES Y OTRAS CUENTAS POR COBRAR | B18: =SUM(B14:B17) -> 423430000 | C18: =SUM(C14:C17) -> 133403000
A20: TOTAL ACTIVO CORRIENTE | B20: =+B11+B18 -> 436704000 | C20: =+C11+C18 -> 137056000
A22: ACTIVO NO CORRIENTE
A23: PROPIEDAD PLANTA Y EQUIPO
A25: EQUIPO DE OFICINA
A26: Muebles y enseres | B26: 1730000 | C26: =+'ESF 2016'!B25 -> 1730000 | D26: =+B26-C26 -> 0
A27: Depreciacion acumulada | B27: -173000 | D27: =+B27-C27 -> -173000
A28: TOTAL EQUIPO DE OFICINA | B28: =SUM(B26:B27) -> 1557000 | C28: =SUM(C26:C27) -> 1730000
A30: EQUIPO DE COMPUTACION Y COMUNICACIÓN
A31: Equipos de procesamientos de datos | B31: 2800000 | C31: =+'ESF 2016'!B29 -> 2800000
A32: Depreciacion acumulada | B32: -560000 | D32: =+B32-C32 -> -560000
A33: TOTAL EQUIPO DE COMPUTACION Y COMUNICACIÓN | B33: =SUM(B31:B32) -> 2240000 | C33: =SUM(C31:C32) -> 2800000
A35: FLOTA Y EQUIPO DE TRANSPORTE
A36: Tractomulas y Remolques | B36: 751100000 | C36: =+'ESF 2016'!B33 -> 751100000 | D36: =+B36-C36 -> 0
A37: Depreciacion acumulada | B37: -185330000 | C37: =+'ESF 2016'!B34 -> -35110000 | D37: =+B37-C37 -> -150220000
A38: TOTAL FLOTA Y EQUIPO DE TRANSPORTE | B38: =SUM(B36:B37) -> 565770000 | C38: =SUM(C36:C37) -> 715990000
A40: INTANGIBLES
A41: Licencias | B41: =3598000+461000 -> 4059000 | C41: =+'ESF 2016'!B40 -> 1469000 | D41: =+B41-C41 -> 2590000
A42: TOTAL INTANGIBLES | B42: =+B41 -> 4059000 | C42: =+C41 -> 1469000
A44: TOTAL ACTIVO NO CORRIENTE | B44: =+B28+B33+B38+B42 -> 573626000 | C44: =+C28+C33+C38+C42 -> 721989000
A46: TOTAL ACTIVO | B46: =+B44+B20 -> 1010330000 | C46: =+C44+C20 -> 859045000
A48: LABS TRANSPORTE DE CARGA SAS
A49: NIT. 9 0 0 6 7 3 3 6 1 - 6
A51: ESTADO DE SITUACION FINANCIERA CONSOLIDADO
A53: PASIVO | B53: 2017 | C53: 2016 | D53: VARIACION
A54: OBLIGACIONES FINANCIERAS
...

Sheet ESF CONSOLI 16-15
A1: LABS TRANSPORTE DE CARGA SAS
A2: NIT. 9 0 0 6 7 3 3 6 1 - 6
A4: ESTADO DE SITUACION FINANCIERA CONSOLIDADO
A6: ACTIVO | B6: 2016 | C6: 2015 | D6: VARIACION
A7: ACTIVO CORRIENTE
A8: EFECTIVO Y EQUIVALENTES DE EFECTIVO
A9: Caja | B9: =+'ESF 2016'!B10 -> 883000 | C9: =+'ESF 2015'!B11 -> 3065000 | D9: =+B9-C9 -> -2182000
A10: Bancolombia Cuenta de ahorros N° 26215832111 | B10: =+'ESF 2016'!B11 -> 2770000 | C10: =+'ESF 2016'!C11 -> 0 | D10: =+B10-C10 -> 2770000
A11: TOTAL EFECTIVO Y EQUIVALENTES DE EFECTIVO | B11: =SUM(B9:B10) -> 3653000 | C11: =SUM(C9:C10) -> 3065000
A13: CUENTAS COMERCIALES Y OTRAS CUENTAS POR COBRAR
A14: Clientes | B14: =+'ESF 2016'!B15 -> 115549000 | C14: =+'ESF 2015'!B15 -> 37845000 | D14: =+B14-C14 -> 77704000
A15: Anticipos y avances | B15: =+'ESF 2016'!B16 -> 5358000 | D15: =+B15-C15 -> 5358000
A16: Cuentas por cobrar a socios y accionistas | B16: 0 | D16: =+B16-C16 -> 0
A17: Anticipos de Impuestos y Contribuciones | B17: =+'ESF 2016'!B17 -> 12496000 | C17: =+'ESF 2015'!B16 -> 6241000 | D17: =+B17-C17 -> 6255000
A18: TOTAL CUENTAS COMERCIALES Y OTRAS CUENTAS POR COBRAR | B18: =SUM(B14:B17) -> 133403000 | C18: =SUM(C14:C17) -> 44086000
A20: TOTAL ACTIVO CORRIENTE | B20: =+B11+B18 -> 137056000 | C20: =+C11+C18 -> 47151000
A22: ACTIVO NO CORRIENTE
A23: PROPIEDAD PLANTA Y EQUIPO
A25: EQUIPO DE OFICINA
A26: Muebles y enseres | B26: =+'ESF 2016'!B25 -> 1730000 | C26: 0 | D26: =+B26-C26 -> 1730000
A27: Depreciacion acumulada | D27: =+B27-C27 -> 0
A28: TOTAL EQUIPO DE OFICINA | B28: =SUM(B26:B27) -> 1730000 | C28: =SUM(C26:C27) -> 0
A30: EQUIPO DE COMPUTACION Y COMUNICACIÓN
A31: Equipos de procesamientos de datos | B31: =+'ESF 2016'!B29 -> 2800000 | C31: 0 | D31: =+B31-C31 -> 2800000
A32: Depreciacion acumulada | B32: 0 | C32: 0
A33: TOTAL EQUIPO DE COMPUTACION Y COMUNICACIÓN | B33: =SUM(B31:B32) -> 2800000
A35: FLOTA Y EQUIPO DE TRANSPORTE
A36: Tractomulas y Remolques | B36: =+'ESF 2016'!B33 -> 751100000 | C36: =+'ESF 2015'!B24 -> 751100000 | D36: =+B36-C36 -> 0
A37: Depreciacion acumulada | B37: =+'ESF 2016'!B34 -> -35110000 | C37: 0 | D37: =+B37-C37 -> -35110000
A38: TOTAL FLOTA Y EQUIPO DE TRANSPORTE | B38: =SUM(B36:B37) -> 715990000 | C38: =SUM(C36:C37) -> 751100000
A40: INTANGIBLES
A41: Licencias | B41: =+'ESF 2016'!B40 -> 1469000 | C41: 0 | D41: =+B41-C41 -> 1469000
A42: TOTAL INTANGIBLES | B42: =+B41 -> 1469000 | C42: =+C41 -> 0
A44: TOTAL ACTIVO NO CORRIENTE | B44: =+B28+B33+B38+B42 -> 721989000 | C44: =+C28+C33+C38+C42 -> 751100000
A46: TOTAL ACTIVO | B46: =+B44+B20 -> 859045000 | C46: =+C44+C20 -> 798251000
A48: LABS TRANSPORTE DE CARGA SAS
A49: NIT. 9 0 0 6 7 3 3 6 1 - 6
A51: ESTADO DE SITUACION FINANCIERA CONSOLIDADO
A53: PASIVO | B53: 2016 | C53: 2015 | D53: VARIACION
A55: PROVEEDORES
...

Sheet ESF CONSOLI 15-14
A1: LABS TRANSPORTE DE CARGA SAS
A2: NIT. 9 0 0 6 7 3 3 6 1 - 6
A4: ESTADO DE SITUACION FINANCIERA CONSOLIDADO
A6: ACTIVO | B6: 2015 | C6: 2014 | D6: VARIACION
A7: ACTIVO CORRIENTE
A8: EFECTIVO Y EQUIVALENTES DE EFECTIVO
A9: Caja | B9: =+'ESF 2015'!B11 -> 3065000 | C9: =+'BALANCE 2014'!B10 -> 13891000 | D9: =+B9-C9 -> -10826000
A10: Bancolombia Cuenta de ahorros N° 26215832111 | B10: =+'ESF 2016'!C11 -> 0 | C10: =+'BALANCE 2014'!B11 -> 32898000 | D10: =+B10-C10 -> -32898000
A11: TOTAL EFECTIVO Y EQUIVALENTES DE EFECTIVO | B11: =SUM(B9:B10) -> 3065000 | C11: =SUM(C9:C10) -> 46789000 | D11: =+B11-C11 -> -43724000
A13: CUENTAS COMERCIALES Y OTRAS CUENTAS POR COBRAR
A14: Clientes | B14: =+'ESF 2015'!B15 -> 37845000 | C14: =+'BALANCE 2014'!B15 -> 10494000 | D14: =+B14-C14 -> 27351000
A15: Anticipos y avances | D15: =+B15-C15 -> 0
A16: Cuentas por cobrar a socios y accionistas | D16: =+B16-C16 -> 0
A17: Anticipos de Impuestos y Contribuciones | B17: =+'ESF 2015'!B16 -> 6241000 | C17: =+'BALANCE 2014'!B16 -> 620000 | D17: =+B17-C17 -> 5621000
A18: TOTAL CUENTAS COMERCIALES Y OTRAS CUENTAS POR COBRAR | B18: =SUM(B14:B17) -> 44086000 | C18: =SUM(C14:C17) -> 11114000
A20: TOTAL ACTIVO CORRIENTE | B20: =+B11+B18 -> 47151000 | C20: =+C11+C18 -> 57903000
A22: ACTIVO NO CORRIENTE
A23: PROPIEDAD PLANTA Y EQUIPO
A25: FLOTA Y EQUIPO DE TRANSPORTE
A26: Tractomulas y Remolques | B26: =+'ESF 2015'!B24 -> 751100000 | C26: =+'BALANCE 2014'!B25 -> 600000000 | D26: =+B26-C26 -> 151100000
A27: Depreciacion acumulada | B27: 0 | C27: 0
A28: TOTAL FLOTA Y EQUIPO DE TRANSPORTE | B28: =SUM(B26:B27) -> 751100000 | C28: =SUM(C26:C27) -> 600000000
A30: TOTAL ACTIVO NO CORRIENTE | B30: =+B28 -> 751100000 | C30: =+C28 -> 600000000
A32: TOTAL ACTIVO | B32: =+B30+B20 -> 798251000 | C32: =+C30+C20 -> 657903000
A34: LABS TRANSPORTE DE CARGA SAS
A35: NIT. 9 0 0 6 7 3 3 6 1 - 6
A37: ESTADO DE SITUACION FINANCIERA CONSOLIDADO
A39: PASIVO | B39: 2015 | C39: 2014 | D39: VARIACION
A41: PROVEEDORES
A42: Nacionales | B42: 0 | C42: =+'BALANCE 2014'!B35 -> 29729000 | D42: =+B42-C42 -> -29729000
A43: TOTAL PROVEEDORES | B43: =+B42 -> 0 | C43: =+C42 -> 29729000
A45: CUENTAS POR PAGAR COMERCIALES Y OTRAS CUENTAS POR PAGAR
A46: Costos y Gastos por pagar
A47: Retencion en la fuente | B47: =+'ESF 2015'!B34 -> 135000 | C47: 0 | D47: =+B47-C47 -> 135000
A48: ICAindustria y comercio | B48: =+'ESF 2015'!B35 -> 23000 | C48: 0 | D48: =+B48-C48 -> 23000
A49: Retenciones y aportes de nomina | C49: 0 | D49: =+B49-C49 -> 0
A50: Cuentas por pagar a socios y accionistas | B50: =+'ESF 2015'!B36 -> 103918000 | D50: =+B50-C50 -> 103918000
A51: TOTAL CUENTAS POR PAGAR COMERCIALES Y OTRAS CUENTAS POR PAGAR | B51: =+SUM(B46:B50) -> 104076000 | D51: =+B51-C51 -> 104076000
A53: PASIVO POR IMPUESTO CORRIENTE
A54: Impuesto de renta y complementarios | B54: =+'ESF 2015'!B40 -> 17195000 | C54: =+'BALANCE 2014'!B39 -> 2044000 | D54: =+B54-C54 -> 15151000
...

Sheet ER 2017
A1: LABS TRANSPORTE DE CARGA SAS
A2: NIT. 9 0 0 6 7 3 3 6 1 - 6
A4: ESTADO DE RESULTADOS INTEGRAL Y OTRO RESULTADO
A5: DESDE EL 01 DE ENERO AL 31 DE DICIEMBRE DE 2017
A7: INGRESOS ORDINARIOS
A8: Servicio de Transporte de carga por Carretera | B8: 1123466000
A9: Comisiones intermediacion de transporte | B9: 25412000
A10: TOTAL INGRESOS | C10: =+B9+B8 -> 1148878000
A12: COSTO DE VENTA
A13: SERVICIO DE TRANSPORTE DE CARGA POR CARRETERA
A14: Gastos de personal | B14: 80517000
A15: Viaticos | B15: 3382000
A16: Cargue | B16: 20646000
A17: Descargue | B17: 14504000
A18: Combustible | B18: 392883000
A19: Mantenimiento y reparaciones | B19: 87919000
A20: Lavadas | B20: 3010000
A21: Llantas | B21: 39993000
A22: GPS | B22: 9949000
A23: SOAT y todo riesgo | B23: 38666000
A24: Peajes | B24: 145671000
A25: Parqueos | B25: 873000
... A32: Depreciacion | B32: 150220000
A33: TOTAL COSTOS DE VENTAS | C33: =SUM(B14:B32) -> 1010660000
A35: UTILIDAD BRUTA EN VENTAS | C35: =C10-C33 -> 138218000
A37: GASTOS ORDINARIOS
A38: OPERACIONALES DE ADMINISTRACION
A39: Gastos de Personal | B39: 33785000
A40: Honorarios | B40: 27425000
A41: Impuestos | B41: 2884000
A42: Arrendamientos | B42: 2350000
A43: Servicios | B43: 1222000
A44: Gastos legales | B44: 1920000
A45: Mantenimiento y reparaciones | B45: 505000
A46: Adecuacion e instalacion | B46: 268000
A47: Gastos de Viaje | B47: 36000
A48: Depreciaciones | B48: 733000
A49: Diversos | B49: =4225000+1469000 -> 5694000
A50: TOTAL GASTO OPERACIONALES DE ADMINISTRACION | C50: =+SUM(B39:B49) -> 76822000
A52: OPERACIONALES DE VENTAS
...

Sheet ESF 2017
A1: LABS TRANSPORTE DE CARGA SAS
A2: NIT. 9 0 0 6 7 3 3 6 1 - 6
A4: ESTADO DE SITUACION FINANCIERA
A5: AL 31 DE DICIEMBRE DE 2017
A7: ACTIVO
A8: ACTIVO CORRIENTE
A9: EFECTIVO Y EQUIVALENTES DE EFECTIVO
A10: Caja | B10: 2419000
A11: Bancolombia Cuenta de ahorros N° 26215832111 | B11: 10855000
A12: TOTAL EFECTIVO Y EQUIVALENTES DE EFECTIVO | C12: =+B10+B11 -> 13274000
A14: CUENTAS COMERCIALES Y OTRAS CUENTAS POR COBRAR
A15: Clientes | B15: 221026000
A16: Anticipos y avances | B16: 68968000
A17: Cuentas por cobrar a socios y accionistas | B17: 116900000
A18: Anticipos de Impuestos y Contribuciones | B18: 16536000
A19: TOTAL CUENTAS COMERCIALES Y OTRAS CUENTAS POR COBRAR | C19: =SUM(B15:B18) -> 423430000
A21: TOTAL ACTIVO CORRIENTE | C21: =+C12+C19 -> 436704000
A23: ACTIVO NO CORRIENTE
A24: PROPIEDAD PLANTA Y EQUIPO
A26: EQUIPO DE OFICINA
A27: Muebles y enseres | B27: 1730000
A28: Depreciacion acumulada | B28: -173000
A29: TOTAL EQUIPO DE OFICINA | C29: =+B27+B28 -> 1557000
A31: EQUIPO DE COMPUTACION Y COMUNICACIÓN
A32: Equipos de procesamientos de datos | B32: 2800000
A33: Depreciacion acumulada | B33: -560000
A34: TOTAL EQUIPO DE COMPUTACION Y COMUNICACIÓN | C34: =+B32+B33 -> 2240000
A36: FLOTA Y EQUIPO DE TRANSPORTE
A37: Tractomulas y Remolques | B37: 751100000
A38: Depreciacion acumulada | B38: -185330000
A39: TOTAL FLOTA Y EQUIPO DE TRANSPORTE | C39: =+B37+B38 -> 565770000
A41: INTANGIBLES
A42: Licencias | B42: =3598000+461000 -> 4059000
A43: TOTAL INTANGIBLES | C43: =+B42 -> 4059000
A45: TOTAL ACTIVO NO CORRIENTE | C45: =+C29+C34+C39+C43 -> 573626000
A47: TOTAL ACTIVO | C47: =+C21+C45 -> 1010330000
A49: LABS TRANSPORTE DE CARGA SAS
A50: NIT. 9 0 0 6 7 3 3 6 1 - 6
A52: ESTADO DE SITUACION FINANCIERA
A53: AL 31 DE DICIEMBRE DE 2017
...

Sheet  ER 2016
A1: LABS TRANSPORTE DE CARGA SAS
A2: NIT. 9 0 0 6 7 3 3 6 1 - 6
A4: ESTADO DE RESULTADOS INTEGRAL
A5: DESDE EL 01 DE ENERO AL 31 DE DICIEMBRE DE 2016
A7: INGRESOS
A8: Servicio de Transporte de carga por Carretera | B8: 641928000
A9: Servicio Complementarios para el Transporte | B9: 21158000
A10: TOTAL INGRESOS | C10: =+B9+B8 -> 663086000
A12: COSTO DE VENTA
A13: SERVICIO DE TRANSPORTE DE CARGA POR CARRETERA
A14: Gastos de personal | B14: 40274000
A15: Cargue | B15: 1757000
A16: Descargue | B16: 426000
A17: Combustible | B17: 200012000
A18: Mantenimiento y reparaciones | B18: 98507000
A19: Lavadas | B19: 1062000
A20: Llantas | B20: 38400000
A21: GPS | B21: 21576000
A22: SOAT y todo riesgo | B22: 39599000
A23: Peajes | B23: 86554000
A24: Parqueos | B24: =776500+500 -> 777000
A25: Dotacion | B25: 900000
A26: Bascula | B26: 36000
A27: Seguridad y salud ocupacional | B27: 2674000
A28: Revision tecnomecanica | B28: 598000
A29: Depreciacion | B29: 35110000
A30: Otros costos | B30: =1253000+40000 -> 1293000
A31: TOTAL COSTOS DE VENTAS | C31: =SUM(B14:B30) -> 569555000
A33: UTILIDAD BRUTA EN VENTAS | C33: =C10-C31 -> 93531000
A35: GASTOS ORDINARIOS
A36: OPERACIONALES DE ADMINISTRACION
A37: Gastos de Personal | B37: 44305000
A38: Honorarios | B38: 2800000
A39: Impuestos | B39: 17000
A40: Arrendamientos | B40: 2750000
A41: Servicios | B41: 1524000
A42: Gastos legales | B42: 1278000
A43: Diversos | B43: 2189000
A44: TOTAL GASTO OPERACIONALES DE ADMINISTRACION | C44: =+SUM(B37:B43) -> 54863000
A46: OPERACIONALES DE VENTAS
...

Sheet ESF 2016
A1: LABS TRANSPORTE DE CARGA SAS
A2: NIT. 9 0 0 6 7 3 3 6 1 - 6
A4: ESTADO DE SITUACION FINANCIERA
A5: AL 31 DE DICIEMBRE DE 2016
A7: ACTIVO
A8: ACTIVO CORRIENTE
A9: EFECTIVO Y EQUIVALENTES DE EFECTIVO
A10: Caja | B10: 883000
A11: Bancolombia Cuenta de ahorros N° 26215832111 | B11: 2770000
A12: TOTAL EFECTIVO Y EQUIVALENTES DE EFECTIVO | C12: =+B10+B11 -> 3653000
A14: CUENTAS COMERCIALES Y OTRAS CUENTAS POR COBRAR
A15: Clientes | B15: 115549000
A16: Anticipos y avances | B16: 5358000
A17: Anticipos de Impuestos y Contribuciones | B17: =12496405.88-405.88 -> 12496000
A18: TOTAL CUENTAS COMERCIALES Y OTRAS CUENTAS POR COBRAR | C18: =SUM(B15:B17) -> 133403000
A20: TOTAL ACTIVO CORRIENTE | C20: =+C12+C18 -> 137056000
A22: ACTIVO NO CORRIENTE
A23: PROPIEDAD PLANTA Y EQUIPO
A24: EQUIPO DE OFICINA
A25: Muebles y enseres | B25: 1730000
A26: TOTAL EQUIPO DE OFICINA | C26: =+B25 -> 1730000
A28: EQUIPO DE COMPUTACION Y COMUNICACIÓN
A29: Equipos de procesamientos de datos | B29: 2800000
A30: TOTAL EQUIPO DE COMPUTACION Y COMUNICACIÓN | C30: =+B29 -> 2800000
A32: FLOTA Y EQUIPO DE TRANSPORTE
A33: Tractomulas y Remolques | B33: 751100000
A34: Depreciacion acumulada | B34: -35110000
A35: TOTAL FLOTA Y EQUIPO DE TRANSPORTE | C35: =+B34+B33 -> 715990000
A37: TOTAL PROPIEDAD PLANTA Y EQUIPO | C37: =SUM(C25:C36) -> 720520000
A39: INTANGIBLES
A40: Software contable | B40: 1469000
A41: TOTAL INTANGIBLES | C41: =+B40 -> 1469000
A43: TOTAL ACTIVO NO CORRIENTE | C43: =+C37+C41 -> 721989000
A45: TOTAL ACTIVO | C45: =+C20+C43 -> 859045000
A48: LABS TRANSPORTE DE CARGA SAS
A49: NIT. 9 0 0 6 7 3 3 6 1 - 6
A51: ESTADO DE SITUACION FINANCIERA
A52: AL 31 DE DICIEMBRE DE 2016
A54: PASIVO
A55: PROVEEDORES
...

Sheet ER 2015
A1: LABS TRANSPORTE DE CARGA SAS
A2: NIT. 9 0 0 6 7 3 3 6 1 - 6
A4: ESTADO DE RESULTADOS INTEGRAL Y OTROS RESULTADOS
A6: DESDE EL 01 DE ENERO AL 31 DE DICIEMBRE DE 2015
A8: INGRESOS OPERACIONALES
A9: Servicio de Transporte de carga por Carretera | B9: 285142000
A10: Otros ingresos no operacionales | B10: 59000000
A11: TOTAL INGRESOS | C11: =+B10+B9 -> 344142000
A13: COSTO DE VENTA
A14: SERVICIO DE TRANSPORTE DE CARGA POR CARRETERA
A15: Combustible | B15: 97524000
A16: Mantenimiento y reparaciones | B16: 29804000
A17: Lavadas | B17: 12173000
A18: Llantas | B18: 17658000
A19: Peajes | B19: 74879000
A20: Parqueos | B20: 10862000
A21: Otros costos | B21: 487000
A22: TOTAL COSTOS DE VENTAS | C22: =SUM(B15:B21) -> 243387000
A24: UTILIDAD BRUTA EN VENTAS | C24: =C11-C22 -> 100755000
A26: GASTOS
A27: GASTOS ORDINARIOS
A28: Gastos de Personal | B28: 13560000
A29: Arrendamientos | B29: 2400000
A30: Servicios | B30: 1107000
A31: Diversos | B31: 11476000
A32: TOTAL GASTOS ORDINARIOS | C32: =+SUM(B28:B31) -> 28543000
A34: TOTAL GASTOS OPERACIONALES | C34: =+C32 -> 28543000
A36: UTILIDAD OPERACIONAL | C36: =+C24-C34 -> 72212000
A38: INGRESOS NO OPERACIONALES
A39: Financieros | B39: 25000
A40: TOTAL INGRESOS NO OPERACIONALES | C40: =+B39 -> 25000
A42: GASTOS NO OPERACIONALES
A43: Gastos Diversos | B43: 3456000
A44: TOTAL GASTOS NO OPERACIONALES | C44: =+B43 -> 3456000
A46: UTILIDAD ANTES DE IMPUESTOS | C46: =+C36+C40-C44 -> 68781000
A48: IMPUESTOS Y GRAVAMENES
A49: Impuesto sobre la renta y complementarios | B49: =+C46*25%-250 -> 17195000
A50: Impuesto de renta para la equidad CREE | B50: 3768000
A51: TOTAL IMPUESTOS Y GRAVAMENES | C51: =+B49+B50 -> 20963000
A53: UTILIDAD DEL EJERCICIO | C53: =+C46-B49-B50 -> 47818000
...

Sheet ESF 2015
A1: LABS TRANSPORTE DE CARGA SAS
A2: NIT. 9 0 0 6 7 3 3 6 1 - 6
A4: ESTADO DE SITUACION FINANCIERA
A5: AL 31 DE DICIEMBRE DE 2015
A7: ACTIVO
A8: ACTIVO CORRIENTE
A10: EFECTIVO Y EQUIVALENTES DE EFECTIVO
A11: Caja y Bancos | B11: 3065000
A12: TOTAL EFECTIVO Y EQUIVALENTES DE EFECTIVO | C12: =B11 -> 3065000
A14: CUENTAS COMERCIALES Y OTRAS CUENTAS POR COBRAR
A15: Clientes | B15: =35816000+2029000 -> 37845000
A16: Anticipo de impuestos y contribuciones | B16: 6241000
A17: TOTAL CUENTAS COMERCIALES Y OTRAS CUENTAS POR COBRAR | C17: =+B15+B16 -> 44086000
A19: TOTAL ACTIVO CORRIENTE | C19: =+C12+C17 -> 47151000
A21: ACTIVO NO CORRIENTE
A22: PROPIEDAD PLANTA Y EQUIPO
A23: FLOTA Y EQUIPO DE TRANSPORTE
A24: Tractomulas y Remolques | B24: 751100000
A25: TOTAL FLOTA Y EQUIPO DE TRANSPORTE | C25: =+B24 -> 751100000
A27: TOTAL ACTIVO NO CORRIENTE | C27: =+C25 -> 751100000
A29: TOTAL ACTIVO | C29: =+C19+C27 -> 798251000
A31: PASIVO
A33: CUENTAS POR PAGAR COMERCIALES Y OTRAS CUENTAS POR PAGAR
A34: Retencion en la fuente | B34: 135000
A35: Retencion de ICA | B35: 23000
A36: Cuentas por pagar a socios y accionistas | B36: 103918000
A37: TOTAL CUENTAS POR PAGAR COMERCIALES Y OTRAS CUENTAS POR PAGAR | C37: =+SUM(B34:B36) -> 104076000
A39: PASIVO POR IMPUESTO CORRIENTE
A40: Impuesto de renta y complementarios | B40: =+'ER 2015'!B49 -> 17195000
A41: Impuesto de renta para la equidad CREE | B41: =+'ER 2015'!B50 -> 3768000
A42: TOTAL PASIVO POR IMPUESTO CORRIENTE | C42: =+B40+B41 -> 20963000
A44: TOTAL PASIVO | C44: =+C37+C42 -> 125039000
A46: LABS TRANSPORTE DE CARGA SAS
A47: NIT. 9 0 0 6 7 3 3 6 1 - 6
A48: ESTADO DE SITUACION FINANCIERA
A49: AL 31 DE DICIEMBRE DE 2015
A51: PATRIMONIO
A53: CAPITAL SUSCRITO Y PAGADO
A54: Capital Suscrito y Pagado | B54: 620000000
A55: TOTAL CAPITAL SOCIAL | C55: =+B54 -> 620000000
...

Sheet ER 2014
A1: LABS TRANSPORTE DE CARGA SAS
A2: NIT. 9 0 0 6 7 3 3 6 1 - 6
A4: ESTADO DE RESULTADOS
A5: DESDE EL 01 DE ENERO AL 31 DE DICIEMBRE DE 2014
A7: INGRESOS
A8: Servicio de Transporte de carga por Carretera | B8: 61980000
A9: TOTAL INGRESOS | C9: =B8 -> 61980000
A11: COSTO DE VENTA
A12: SERVICIO DE TRANSPORTE DE CARGA POR CARRETERA
A13: Cargue | B13: 1456000
A14: Descargue | B14: 326000
A15: Combustible | B15: 29882000
A16: Mantenimiento y reparaciones | B16: 4790000
A17: Lavadas | B17: 1050000
A18: Llantas | B18: 11058000
A19: Peajes | B19: 1860000
A20: Parqueos | B20: 678000
A21: Otros costos | B21: 770000
A22: TOTAL COSTOS DE VENTAS | C22: =SUM(B13:B21) -> 51870000
A24: UTILIDAD BRUTA EN VENTAS | C24: =C9-C22 -> 10110000
A26: GASTOS
A27: OPERACIONALES DE ADMINISTRACION
A28: Honorarios | B28: 1130000
A29: Arrendamientos | B29: 170000
A30: Diversos | B30: 491000
A31: Servicios | B31: 145000
A32: TOTAL OPERACIONALES DE ADMINISTRACION | C32: =SUM(B28:B31) -> 1936000
A34: TOTAL GASTOS OPERACIONALES | C34: =C32 -> 1936000
A36: UTILIDAD OPERACIONAL | C36: =C24-C34 -> 8174000
A38: IMPUESTOS Y GRAVAMENES
A39: Impuesto sobre la renta y complementarios | B39: =+C36*25%+500 -> 2044000
A40: Impuesto sobre la renta para la equidad CREE | B40: =+C36*9%+340 -> 736000
A41: TOTAL IMPUESTOS Y GRAVAMENES | C41: =+B39+B40 -> 2780000
A43: UTILIDAD DEL EJERCICIO | C43: =+C36-B39-B40 -> 5394000
A47: LUIS ALEJANDRO BECERRA SOSA | B47: WELMAR FERNANDO RINCON
A48: C.C. 7.216.425 de Duitama | B48: TP 120892-T
A49: REPRESENTANTE LEGAL | B49: CONTADOR PUBLICO

Sheet BALANCE 2014
A1: LABS TRANSPORTE DE CARGA SAS
A2: NIT. 9 0 0 6 7 3 3 6 1 - 6
A4: BALANCE GENERAL
A5: AL 31 DE DICIEMBRE DE 2014
A7: ACTIVO
A8: ACTIVO CORRIENTE
A9: DISPONIBLE
A10: Caja | B10: 13891000
A11: Bancolombia Cuenta de ahorros N° 26215832111 | B11: 32898000
A12: TOTAL DISPONIBLE | C12: =SUM(B10:B11) -> 46789000
A14: DEUDORES
A15: Clientes | B15: 10494000
A16: Anticipos de Impuestos y Contribuciones | B16: 620000
A17: TOTAL DEUDORES | C17: =SUM(B15:B16) -> 11114000
A19: TOTAL ACTIVO CORRIENTE | C19: =C12+C17 -> 57903000
A21: ACTIVO NO CORRIENTE
A22: PROPIEDAD PLANTA Y EQUIPO
A24: FLOTA Y EQUIPO DE TRANSPORTE
A25: Tractomulas y Remolques | B25: 600000000
A26: TOTAL FLOTA Y EQUIPO DE TRANSPORTE | C26: =B25 -> 600000000
A28: TOTAL ACTIVO NO CORRIENTE | C28: =C26 -> 600000000
A30: TOTAL ACTIVO | C30: =C19+C28 -> 657903000
A32: PASIVO
A34: PROVEEDORES
A35: Nacionales | B35: 29729000
A36: TOTAL PROVEEDORES | C36: =B35 -> 29729000
A38: IMPUESTOS GRAVAMENES Y TASAS
A39: Impuesto de renta y complementarios | B39: =+'ER 2014'!B39 -> 2044000
A40: Impuesto de renta para la equidad CREE | B40: =+'ER 2014'!B40 -> 736000
A41: TOTAL IMPUESTOS GRAVAMENES Y TASAS | C41: =+B39+B40 -> 2780000
A43: TOTAL PASIVO | C43: =+C36+C41 -> 32509000
A45: LABS TRANSPORTE DE CARGA SAS
A46: NIT. 9 0 0 6 7 3 3 6 1 - 6
A48: BALANCE GENERAL
A49: AL 31 DE DICIEMBRE DE 2014
A51: PATRIMONIO
A53: CAPITAL SOCIAL
A54: Capital Suscrito y Pagado | B54: 620000000
A55: TOTAL CAPITAL SOCIAL | C55: =B54 -> 620000000
A57: RESULTADOS DEL EJERCICIO
...
