Workbook

Sheet PALANCA DE CRECIMIENTO
B2: LABS TRANSPORTE DE CARGA SAS
B3: NIT. 9 0 0 6 7 3 3 6 1 - 6
B5: PALANCA DE CRECIMIENTO
C7: 2017 | D7: 2016 | E7: 2015 | F7: 2014
B9: Margen Ebitda | C9: =+EBITDA!C27 -> 0.18148663 | D9: =+EBITDA!D27 -> 0.1072244 | E9: =+EBITDA!E27 -> 0.19986227 | F9: =+EBITDA!F27 -> 0.13188125
B11: Poductividad del Capital de Trabajo PKT | C11: =+PKT!C19 -> 0.081865089 | D11: =+PKT!D19 -> 0.033451166 | E11: =+PKT!D35 -> -0.17431758 | F11: =+PKT!D50 -> 0.69966118
B13: Palanca de Crecimiento PDC | C13: =+C9/C11 -> 2.216899 | D13: =+D9/D11 -> 3.205401 | E13: =+E9/E11 -> -1.1465411 | F13: =+F9/F11 -> 0.18849302
B15: Brecha o Remanente | C15: =+C9-C11 -> 0.099621544 | D15: =+D9-D11 -> 0.073773236 | E15: =+E9-E11 -> 0.37417984 | F15: =+F9-F11 -> -0.56777993
B42: Resultado:
B43: Se puede observar en palanca de crecimiento PDC para los años 2014 y 2015 ha sido desfavorables y para 2016 y 2017 ha sido favorable esto se debe a que la empresa ha tenido un crecimiento en sus ingresos operacionales

Sheet CICLO DE CAJA 
B2: LABS TRANSPORTE DE CARGA SAS
B3: NIT. 9 0 0 6 7 3 3 6 1 - 6
B5: CICLO DE CAJA
C7: 2017 | D7: 2016 | E7: 2015 | F7: 2014
B9: DIAS DE CUENTAS POR COBRAR | C9: =+'INDICADORES BASICOS'!I151 -> 40.96126 | D9: =+'INDICADORES BASICOS'!I241 -> 51.873163 | E9: =+'INDICADORES BASICOS'!I325 -> 85.432136 | F9: =+'INDICADORES BASICOS'!I407 -> 70.874786
B11: TOTAL CICLO DE LIQUIDEZ | C11: =+C9 -> 40.96126 | D11: =+D9 -> 51.873163 | E11: =+E9 -> 85.432136 | F11: =+F9 -> 70.874786
B13: DIAS DE PAGO A PROVEEDORES | C13: =+(PKT!C15*360)/EBITDA!C11 -> 75.684919 | D13: =+(PKT!D15*360)/EBITDA!D11 -> 70.300357 | E13: =+(PKT!C46*360)/EBITDA!E11 -> 153.9415 | F13: =+(PKT!D46*360)/EBITDA!F11 -> 206.33198
B15: TOTAL CICLO DE CAJA | C15: =+C11-C13 -> -34.723659 | D15: =+D11-D13 -> -18.427194 | E15: =+E11-E13 -> -68.509365 | F15: =+F11-F13 -> -135.4572
B41: Resultado:
B42: La empresa cuenta con un ciclo de caja favorable, porque es corto el tiempo en el que recupera la inversión del dinero del activo corriente, demostrando que cuenta con buena liquidez y capital para atender los pagos a corto plazo, esto puede deberse a que la cartera rota menos veces y aumenta el periodo de recaudo para el flujo de efectivo y el pago a proveedores.

Sheet PKT
B2: LABS TRANSPORTE DE CARGA SAS
B3: NIT. 9 0 0 6 7 3 3 6 1 - 6
B5: PRODUCTIVIDAD DEL CAPITAL DE TRABAJO
C7: 2017 | D7: 2016 | E7: CRECIMIENTO
B9: INGRESOS | C9: =+'ER 2017'!C10 -> 1148878000 | D9: =+' ER 2016'!C10 -> 663086000 | E9: =+C9/D9-1 -> 0.73262292
B11: CUENTAS POR COBRAR | C11: =+'ESF 2017'!C19-'ESF 2017'!B17 -> 306530000 | D11: =+'ESF 2016'!C18 -> 133403000 | E11: =+C11/D11-1 -> 1.2977744
B13: CAPITAL DE TRABAJO OPERATIVO | C13: =+C11 -> 306530000 | D13: =+D11 -> 133403000
B15: =+'ESF 2017'!A64 -> CUENTAS POR PAGAR COMERCIALES Y OTRAS CUENTAS POR PAGAR | C15: =+'ESF 2017'!C62+'ESF 2017'!C66+'ESF 2017'!C71 -> 212477000 | D15: =+'ESF 2016'!C64+'ESF 2016'!C68+'ESF 2016'!C72 -> 111222000 | E15: =+C15/D15-1 -> 0.91038643
B17: CAPITAL DE TRABAJO NETO OPERATIVO KTNO | C17: =+C13-C15 -> 94053000 | D17: =+D13-D15 -> 22181000 | E17: =+D17-C17 -> -71872000
B19: PRODUCTIVIDAD DEL CAPITAL DE TRABAJO NETO OPERATIVO KTNO/VENTAS | C19: =+C17/C9 -> 0.081865089 | D19: =+D17/D9 -> 0.033451166
D20: DISMINUYE LIBERA CAJA
C23: 2016 | D23: 2015 | E23: CRECIMIENTO
B25: INGRESOS | C25: =+D9 -> 663086000 | D25: =+'ER 2015'!C11 -> 344142000 | E25: =+C25/D25-1 -> 0.92678022
B27: CUENTAS POR COBRAR | C27: =+D11 -> 133403000 | D27: =+'ESF 2015'!C17 -> 44086000 | E27: =+C27/D27-1 -> 2.025972
B29: CAPITAL DE TRABAJO OPERATIVO | C29: =+C27 -> 133403000 | D29: =+D27 -> 44086000
B31: CUENTAS POR PAGAR COMERCIALES Y OTRAS CUENTAS POR PAGAR | C31: =+D15 -> 111222000 | D31: =+'ESF 2015'!C37 -> 104076000 | E31: =+C31/D31-1 -> 0.068661363
B33: CAPITAL DE TRABAJO NETO OPERATIVO KTNO | C33: =+C29-C31 -> 22181000 | D33: =+D29-D31 -> -59990000
B35: PRODUCTIVIDAD DEL CAPITAL DE TRABAJO NETO OPERATIVO KTNO/VENTAS | C35: =+C33/C25 -> 0.033451166 | D35: =+D33/D25 -> -0.17431758
C38: 2015 | D38: 2014 | E38: CRECIMIENTO
B40: INGRESOS | C40: =+D25 -> 344142000 | D40: =+'ER 2014'!C9 -> 61980000 | E40: =+C40/D40-1 -> 4.5524685
B42: CUENTAS POR COBRAR | C42: =+D27 -> 44086000 | D42: =+'BALANCE 2014'!C17 -> 11114000 | E42: =+C42/D42-1 -> 2.9667087
B44: CAPITAL DE TRABAJO OPERATIVO | C44: =+C42 -> 44086000 | D44: =+D40+D42 -> 73094000
B46: CUENTAS POR PAGAR COMERCIALES Y OTRAS CUENTAS POR PAGAR | C46: =+D31 -> 104076000 | D46: =+'BALANCE 2014'!C36 -> 29729000 | E46: =+C46/D46-1 -> 2.5008241
B48: CAPITAL DE TRABAJO NETO OPERATIVO KTNO | C48: =+C44-C46 -> -59990000 | D48: =+D44-D46 -> 43365000
B50: PRODUCTIVIDAD DEL CAPITAL DE TRABAJO NETO OPERATIVO KTNO/VENTAS | C50: =+C48/C40 -> -0.17431758 | D50: =+D48/D40 -> 0.69966118
B72: Resultado:
B73: En la productividad del capital de trabajo históricamente, no se observa eficientemente la utilización de los recursos de KT, debido a que la cantidad de pesos que se requieren en capital de trabajo por cada peso que la empresa vende es muy alto y esto se debe a que las cuentas por pagar a proveedores de bienes y servicios incrementan inusualmente respecto a las cuentas por cobrar.

Sheet FCL
B2: LABS TRANSPORTE DE CARGA SAS
B3: NIT. 9 0 0 6 7 3 3 6 1 - 6
B5: FLUJO DE CAJA LIBRE HISTORICO
D7: 2017 | E7: 2016 | F7: 2015 | G7: 2014
C8: VENTAS | D8: =+EBITDA!C9 -> 1148878000 | E8: =+EBITDA!D9 -> 663086000 | F8: =+EBITDA!E9 -> 344142000 | G8: =+EBITDA!F9 -> 61980000
B9: - | C9: COSTOS Y GASTOS EN EFECTIVO | D9: =948612000-9709000 -> 938903000 | E9: 589593000 | F9: =271930000+3456000-25000 -> 275361000 | G9: 53806000
B10: = | C10: EBITDA | D10: =+D8-D9 -> 209975000 | E10: =+E8-E9 -> 73493000 | F10: =+F8-F9 -> 68781000 | G10: =+G8-G9 -> 8174000
B11: - | C11: DEPRECIACIONES Y AMORTIZACIONES | D11: =+EBITDA!C23 -> 150953000 | E11: =+EBITDA!D23 -> 35110000 | F11: =+EBITDA!E23 -> 0 | G11: =+EBITDA!F23 -> 0
B12: = | C12: UTILIDAD OPERATIVA | D12: =+D10-D11 -> 59022000 | E12: =+E10-E11 -> 38383000 | F12: =+F10-F11 -> 68781000 | G12: =+G10-G11 -> 8174000
C13: INTERESES | D13: =+'ER 2017'!B76 -> 9709000 | E13: =+' ER 2016'!B62 -> 2394000
B14: = | C14: UTILIDAD ANTES DE IMPUESTO | D14: =+D12-D13 -> 49313000 | E14: =+E12-E13 -> 35989000 | F14: =+F12-F13 -> 68781000 | G14: =+G12-G13 -> 8174000
B15: - | C15: IMPUESTOS | D15: =+'ER 2017'!B83 -> 16267000 | E15: =+' ER 2016'!C70 -> 12236000 | F15: =+'ER 2015'!B49+'ER 2015'!B50 -> 20963000 | G15: =+'ER 2014'!B39+'ER 2014'!B40 -> 2780000
B16: = | C16: UTILIDAD NETA | D16: =+D14-D15 -> 33046000 | E16: =+E14-E15 -> 23753000 | F16: =+F14-F15 -> 47818000 | G16: =+G14-G15 -> 5394000
B17: + | C17: =+C11 -> DEPRECIACIONES Y AMORTIZACIONES | D17: =+D11 -> 150953000 | E17: =+E11 -> 35110000 | F17: =+F11 -> 0 | G17: =+G11 -> 0
B18: = | C18: FLUJO DE CAJA BRUTO | D18: =+D14+D17 -> 200266000 | E18: =+E14+E17 -> 71099000 | F18: =+F14+F17 -> 68781000 | G18: =+G14+G17 -> 8174000
B19: - | C19: INCREMENTO DEL KTNO | D19: =+PKT!C17-PKT!D17 -> 71872000 | E19: =+PKT!C33-PKT!D33 -> 82171000 | F19: =+PKT!C48-PKT!D48 -> -103355000 | G19: 0
B20: - | C20: INVERSION EN ACTIVOS FIJOS | D20: =+('ESF 2017'!B27+'ESF 2017'!B32+'ESF 2017'!B37+'ESF 2017'!B42)-('ESF 2016'!B25+'ESF 2016'!B29+'ESF 2016'!B33) -> 4059000 | E20: =+('ESF 2016'!B25+'ESF 2016'!B29+'ESF 2016'!B33)-('ESF 2015'!B24) -> 4530000 | F20: =+'ESF 2015'!B24-'BALANCE 2014'!C28 -> 151100000
B21: = | C21: FCL | D21: =+D18-D19-D20 -> 124335000 | E21: =+E18-E19-E20 -> -15602000 | F21: =+F18-F19-F20 -> 21036000 | G21: =+G18-G19-G20 -> 8174000
C52: Resultado:
C53: El flujo de caja libre histórico demuestra que a pesar que en el año 2016 fue desfavorable, la empresa ha generado efectivo suficiente para atender la reposición de capital de trabajo, atención del servicio a la deuda y reparto de utilidades, ya que debido a sus ingresos cubre las necesidades de recursos para operar

Sheet EBITDA
B2: LABS TRANSPORTE DE CARGA SAS
B3: NIT. 9 0 0 6 7 3 3 6 1 - 6
B5: EBITDA
C7: 31 DE DIC 2017 | D7: 31 DE DIC 2016 | E7: 31 DE DIC 2015 | F7: 31 DE DIC 2014
B9: INGRESOS | C9: =+'ER 2017'!C10 -> 1148878000 | D9: =+' ER 2016'!C10 -> 663086000 | E9: =+'ER 2015'!C11 -> 344142000 | F9: =+'ER 2014'!C9 -> 61980000
B11: COSTO DE VENTA | C11: =+'ER 2017'!C33 -> 1010660000 | D11: 569555000 | E11: =+'ER 2015'!C22 -> 243387000 | F11: =+'ER 2014'!C22 -> 51870000
B13: UTILIDAD BRUTA EN VENTAS | C13: =+C9-C11 -> 138218000 | D13: =+D9-D11 -> 93531000 | E13: =+E9-E11 -> 100755000 | F13: =+F9-F11 -> 10110000
B15: GASTOS OPERACIONALES DE ADMINISTRACION | C15: =+'ER 2017'!C50 -> 76822000 | D15: 54863000 | E15: =+'ER 2015'!C32 -> 28543000 | F15: =+'ER 2014'!C32 -> 1936000
B17: GASTOS OPERACIONALES DE VENTAS | C17: =+'ER 2017'!C56 -> 1225000 | D17: 285000 | E17: 0
B19: OTROS GASTOS | C19: =+'ER 2017'!B77-'ER 2017'!C73 -> 2618000 | D19: =+' ER 2016'!B62 -> 2394000 | E19: =+'ER 2015'!B43-'ER 2015'!B39 -> 3431000
B21: EBIT | C21: =+C13-C15-C17-C19 -> 57553000 | D21: =+D13-D15-D17-D19 -> 35989000 | E21: =+E13-E15-E17-E19 -> 68781000 | F21: =+F13-F15-F17 -> 8174000
B23: DEPRECIACIONES | C23: =+'ER 2017'!B32+'ER 2017'!B48 -> 150953000 | D23: 35110000
B25: EBITDA | C25: =+C21+C23 -> 208506000 | D25: =+D21+D23 -> 71099000 | E25: =+E21+E23 -> 68781000 | F25: =+F21+F23 -> 8174000
B27: MARGEN EBITDA | C27: =+C25/C9 -> 0.18148663 | D27: =+D25/D9 -> 0.1072244 | E27: =+E25/E9 -> 0.19986227 | F27: =+F25/F9 -> 0.13188125
B52: Resultado:
B53: El margen EBITDA tiene un comportamiento favorable, exceptuando el año 2016, debido a su palanca de crecimiento, sin embargo su resultado histórico demuestra que la empresa puede cubrir caja para pagar impuestos, apoyar las inversiones, cubrir el servicio a la deuda y repartir utilidades, dado que el nivel de ventas es mayor que los costos y gastos.

Sheet DUPONT
B2: LABS TRANSPORTE DE CARGA SAS | W2: LABS TRANSPORTE DE CARGA SAS | AR2: LABS TRANSPORTE DE CARGA SAS | BM2: LABS TRANSPORTE DE CARGA SAS
B3: NIT. 9 0 0 6 7 3 3 6 1 - 6 | W3: NIT. 9 0 0 6 7 3 3 6 1 - 6 | AR3: NIT. 9 0 0 6 7 3 3 6 1 - 6 | BM3: NIT. 9 0 0 6 7 3 3 6 1 - 6
C6: ANALISIS DUPONT 2017 | X6: ANALISIS DUPONT 2016 | AS6: ANALISIS DUPONT 2015 | BN6: ANALISIS DUPONT 2014
S8: COSTO DE VENTAS | AN8: COSTO DE VENTAS | BI8: COSTO DE VENTAS | CD8: COSTO DE VENTAS
T9: ='INDICADORES BASICOS'!C9 -> 1010660000 | AO9: ='INDICADORES BASICOS'!F9 -> 569555000 | BJ9: ='INDICADORES BASICOS'!F27 -> 243387000 | CE9: ='INDICADORES BASICOS'!F43 -> 51870000
O10: VENTAS NETAS | AJ10: VENTAS NETAS | BE10: VENTAS NETAS | BZ10: VENTAS NETAS
P11: ='INDICADORES BASICOS'!C8+'INDICADORES BASICOS'!C14 -> 1149634000 | AK11: ='INDICADORES BASICOS'!F8+'INDICADORES BASICOS'!F14 -> 663086000 | BF11: ='INDICADORES BASICOS'!F26+'INDICADORES BASICOS'!F32 -> 344167000 | CA11: ='INDICADORES BASICOS'!F42+'INDICADORES BASICOS'!F47 -> 61980000
K13: UTILIDAD NETA | S13: G. OPERAC. | AF13: UTILIDAD NETA | AN13: G. OPERAC. | BA13: UTILIDAD NETA | BI13: G. OPERAC. | BV13: UTILIDAD NETA | CD13: G. OPERAC.
L14: =P11-P17 -> 31577000 | T14: ='INDICADORES BASICOS'!C11+'INDICADORES BASICOS'!C12 -> 78047000 | AG14: =AK11-AK17 -> 23753000 | AO14: ='INDICADORES BASICOS'!F11+'INDICADORES BASICOS'!F12 -> 55148000 | BB14: =BF11-BF17 -> 47818000 | BJ14: ='INDICADORES BASICOS'!F29+'INDICADORES BASICOS'!F30+'INDICADORES BASICOS'!F33 -> 31999000 | BW14: =CA11-CA17 -> 8174000 | CE14: ='INDICADORES BASICOS'!F45+'INDICADORES BASICOS'!F48 -> 1936000
G16: MARGEN | O16: COSTOS Y GASTOS | AB16: MARGEN | AJ16: COSTOS Y GASTOS | AW16: MARGEN | BE16: COSTOS Y GASTOS | BR16: MARGEN | BZ16: COSTOS Y GASTOS
G17: UT.NET / VT.NET | P17: =T9+T14+T19+T24 -> 1118057000 | AB17: UT.NET / VT.NET | AK17: =AO9+AO14+AO19+AO24 -> 639333000 | AW17: UT.NET / VT.NET | BF17: =BJ9+BJ14+BJ19+BJ24 -> 296349000 | BR17: UT.NET / VT.NET | CA17: =CE9+CE14+CE19+CE24 -> 53806000
H18: =L14/L26 -> 0.027467003 | S18: G. FINANCIEROS | AC18: =AG14/AG26 -> 0.035821899 | AN18: G. FINANCIEROS | AX18: =BB14/BB26 -> 0.13893836 | BI18: G. FINANCIEROS | BS18: =BW14/BW26 -> 0.13188125 | CD18: G. FINANCIEROS
T19: ='[1]ER 2017'!$C$78 -> 13083000 | AO19: ='[1] ER 2016'!$C$63 -> 2394000 | BJ19: 0 | CE19: 0
S23: IMPUESTOS | AN23: IMPUESTOS | BI23: IMPUESTOS | CD23: IMPUESTOS
T24: ='INDICADORES BASICOS'!C18 -> 16267000 | AO24: ='INDICADORES BASICOS'!F17+'INDICADORES BASICOS'!F18 -> 12236000 | BJ24: ='INDICADORES BASICOS'!F35+'INDICADORES BASICOS'!F36 -> 20963000 | CE24: ='INDICADORES BASICOS'!F50+'INDICADORES BASICOS'!F51 -> 0
K25: VENTAS NETAS | AF25: VENTAS NETAS | BA25: VENTAS NETAS | BV25: VENTAS NETAS
C26: RENDIMIENTO | L26: =P11 -> 1149634000 | X26: RENDIMIENTO | AG26: ='INDICADORES BASICOS'!F8 -> 663086000 | AS26: RENDIMIENTO | BB26: =BF11 -> 344167000 | BN26: RENDIMIENTO | BW26: =CA11 -> 61980000
C27: DE LA INVERSIÓN. | X27: DE LA INVERSIÓN. | AS27: DE LA INVERSIÓN. | BN27: DE LA INVERSIÓN.
C28: MARGEN*ROTACION | X28: MARGEN*ROTACION | AS28: MARGEN*ROTACION | BN28: MARGEN*ROTACION
D29: =H18*H40 -> 0.031254145 | Y29: =AC18*AC40 -> 0.027650472 | AT29: =AX18*AX40 -> 0.059903464 | BO29: =BS18*BS40 -> 0.012424324
K33: VENTAS NETAS | AF33: VENTAS NETAS | BA33: VENTAS NETAS | BV33: VENTAS NETAS
L34: =P11 -> 1149634000 | S34: CAJA | AG34: ='INDICADORES BASICOS'!F8 -> 663086000 | AN34: CAJA | BB34: =BF11 -> 344167000 | BI34: CAJA | BW34: =CA11 -> 61980000 | CD34: CAJA
T35: ='INDICADORES BASICOS'!C57 -> 13274000 | AO35: ='INDICADORES BASICOS'!F57 -> 3653000 | BJ35: ='INDICADORES BASICOS'!F88 -> 3065000 | CE35: ='INDICADORES BASICOS'!F118 -> 46789000
G38: ROTACION ANUAL | AB38: ROTACION ANUAL | AW38: ROTACION ANUAL | BR38: ROTACION ANUAL
G39: VT.NET / ACT.TOT | S39: VALORES NEGOCIAB | AB39: VT.NET / ACT.TOT | AN39: VALORES NEGOCIAB | AW39: VT.NET / ACT.TOT | BI39: VALORES NEGOCIAB | BR39: VT.NET / ACT.TOT | CD39: VALORES NEGOCIAB
H40: =L34/L49 -> 1.1378797 | T40: 0 | AC40: =AG34/AG49 -> 0.77188739 | AO40: 0 | AX40: =BB34/BB49 -> 0.43115135 | BJ40: 0 | BS40: =BW34/BW49 -> 0.094208417 | CE40: 0
O41: ACTIVO CORRIENTE | AJ41: ACTIVO CORRIENTE | BE41: ACTIVO CORRIENTE | BZ41: ACTIVO CORRIENTE
P42: =T35+T40+T45+T50 -> 436704000 | AK42: =AO35+AO40+AO45+AO50 -> 137056000 | BF42: =BJ35+BJ40+BJ45+BJ50 -> 47151000 | CA42: =CE35+CE40+CE45+CE50 -> 57903000
S44: CUENTAS POR COBRAR | AN44: CUENTAS POR COBRAR | BI44: CUENTAS POR COBRAR | CD44: CUENTAS POR COBRAR
T45: ='INDICADORES BASICOS'!C58 -> 423430000 | AO45: ='INDICADORES BASICOS'!F58 -> 133403000 | BJ45: ='INDICADORES BASICOS'!F89 -> 44086000 | CE45: ='INDICADORES BASICOS'!F119 -> 11114000
C48: RENDIMIENTO | K48: ACTIVO TOTAL | X48: RENDIMIENTO | AF48: ACTIVO TOTAL | AS48: RENDIMIENTO | BA48: ACTIVO TOTAL | BN48: RENDIMIENTO | BV48: ACTIVO TOTAL
C49: SOBRE PATRIMONIO | L49: =P42+P57 -> 1010330000 | S49: INVETARIOS | X49: SOBRE PATRIMONIO | AG49: =AK42+AK57 -> 859045000 | AN49: INVETARIOS | AS49: SOBRE PATRIMONIO | BB49: =BF42+BF57 -> 798251000 | BI49: INVETARIOS | BN49: SOBRE PATRIMONIO | BW49: =CA42+CA57 -> 657903000 | CD49: INVETARIOS
C50: MARGEN*ROTACION*MULTIPLICADOR | T50: 0 | X50: MARGEN*ROTACION*MULTIPLICADOR | AO50: 0 | AS50: MARGEN*ROTACION*MULTIPLICADOR | BJ50: 0 | BN50: MARGEN*ROTACION*MULTIPLICADOR | CE50: 0
D51: =H18*H40*H66 -> 0.043342731 | Y51: =AC18*AC40*AC66 -> 0.034080621 | AT51: =AX18*AX40*AX66 -> 0.071029631 | BO51: =BS18*BS40*BS66 -> 0.013070161
O56: ACT. PERMANENTE | S56: ACTIVOS FIJOS | AJ56: ACT. PERMANENTE | AN56: ACTIVOS FIJOS | BE56: ACT. PERMANENTE | BI56: ACTIVOS FIJOS | BZ56: ACT. PERMANENTE | CD56: ACTIVOS FIJOS
P57: =T57 -> 573626000 | T57: ='INDICADORES BASICOS'!C61+'INDICADORES BASICOS'!C62 -> 573626000 | AK57: =AO57 -> 721989000 | AO57: ='INDICADORES BASICOS'!F61+'INDICADORES BASICOS'!F62 -> 721989000 | BF57: =BJ57 -> 751100000 | BJ57: ='INDICADORES BASICOS'!F93+'INDICADORES BASICOS'!F92 -> 751100000 | CA57: =CE57 -> 600000000 | CE57: ='INDICADORES BASICOS'!F122 -> 600000000
K62: ACTIVO TOTAL | AF62: ACTIVO TOTAL | BA62: ACTIVO TOTAL | BV62: ACTIVO TOTAL
L63: ='INDICADORES BASICOS'!C64 -> 1010330000 | AG63: ='INDICADORES BASICOS'!F64 -> 859045000 | BB63: ='INDICADORES BASICOS'!F95 -> 798251000 | BW63: ='INDICADORES BASICOS'!F124 -> 657903000
G64: MULTIPLICADOR. | O64: ACTIVO TOTAL | AB64: MULTIPLICADOR. | AJ64: ACTIVO TOTAL | AW64: MULTIPLICADOR. | BE64: ACTIVO TOTAL | BR64: MULTIPLICADOR. | BZ64: ACTIVO TOTAL
G65: ACT.TOT. / PATR | P65: ='INDICADORES BASICOS'!C64 -> 1010330000 | AB65: ACT.TOT. / PATR | AK65: ='INDICADORES BASICOS'!F64 -> 859045000 | AW65: ACT.TOT. / PATR | BF65: ='INDICADORES BASICOS'!F95 -> 798251000 | BR65: ACT.TOT. / PATR | CA65: ='INDICADORES BASICOS'!F124 -> 657903000
...

Sheet OTROS INDICADORES
B2: LABS TRANSPORTE DE CARGA SAS
B3: NIT. 9 0 0 6 7 3 3 6 1 - 6
B5: OTROS INDICADORES 2017
C7: 2017
B8: Ingresos por venta de servicios | C8: ='INDICADORES BASICOS'!C8 -> 1148878000
B9: Gastos variables | C9: ='INDICADORES BASICOS'!C15 -> 13083000
B10: Gastos fijos | C10: ='INDICADORES BASICOS'!C11+'INDICADORES BASICOS'!C12 -> 78047000
B11: UAII | C11: =+C8-C9-C10 -> 1057748000
B12: Intereses | C12: ='[1]ER 2017'!$B$76 -> 9709000
B13: UAI | C13: =+C11-C12 -> 1048039000
B14: Impuestos (35%) | C14: ='INDICADORES BASICOS'!C17+'INDICADORES BASICOS'!C18 -> 16267000
B15: Utilidad Neta | C15: =+C13-C14 -> 1031772000
B17: PUNTO DE EQUILIBRIO
D19: Costos Fijos | F19: =+$C$10 -> 78047000
B20: Punto de Equilibrio en Pesos | C20: = | D20: Precio - CV | E20: = | F20: =(18000/1000000)-($C$9/($C$8/0.018)) -> 0.017795023 | G20: =$F$19/($F$20/$F$21) -> 78946008
D21: Precio | F21: 0.018
B23: Punto de Equilibrio en Unidades | C23: = | D23: Peq $ | E23: = | F23: =G20 -> 78946008 | G23: =$F$23/$F$24 -> 4.3858893e+09 | H23: Unidades
D24: Precio | F24: =F21 -> 0.018
B26: Ingresos por venta de servicios | C26: =+$C$8*1.35 -> 1550985300
B27: Gastos variables | C27: =$C$26*$C$9/$C$8 -> 17662050
B28: Gastos fijos | C28: =$F$19+992 -> 78047992
B29: EBIT | C29: =+$C$26-$C$27-$C$28 -> 1455275258
B32: GRADO DE APALANCAMIENTO OPERATIVO
B35: Grado de Apalancamiento Operativo (GAO) = | C35: MC | D35: =+$C$8-$C$9 -> 1135795000 | E35: = | F35: =+$D$35/$D$36 -> 1.073786
C36: UAII | D36: =+$C$11 -> 1057748000
B39: GRADO DE APALANCAMIENTO FINANCIERO
B42: Ebit | C42: =+$C$11 -> 1057748000
B43: Intereses | C43: =+$C$12 -> 9709000
B44: UAI | C44: =+$C$42-$C$43 -> 1048039000
B45: Impuestos | C45: =+$C$44*33% -> 345852870
B46: Utilidad Neta | C46: =+$C$44-C45 -> 702186130
B48: Grado de Apalancamiento Financiero (GAF) = | D48: Ebit | E48: =+$C$42 -> 1057748000 | F48: = | G48: =+E48/E49 -> 1.009264
D49: UAI | E49: =+$C$44 -> 1048039000
B51: CONTRIBUCIÓN FINANCIERA
B53: CONTRIBUCION FINANCIERA | C53: =+$C$29-$C$11 -> 397527258 | D53: =+$C$53/$C$54 -> 0.641173
C54: ='INDICADORES BASICOS'!C77 -> 620000000
B56: RESULTADOS
B58: El volumen mínimo que la empresa debe de tener para no perder es de $78.946.008
B60: El grado de apalancamiento operativo (GAO) significa que por cada punto en % que se aumenten las ventas, abra un aumento porcentual de la UAII de 1,1 puntos.
B63: El grado de apalancamiento financiero es bajo, debido a que los intereses y/o la deuda en la que se encuentra la empresa no es muy significativa, debido ya que el GAF representa que a mayor nivel de endeudamiento mayor GAF y por lo tanto mayor UPA debido a que se emitirá, para este caso, mas deuda que acciones o capital propio.
...

Sheet TABLA AMORTIZACION
A1: TABLA DE AMORTIZACION
D2: VP | E2: 60000000
D3: PERIODOS | E3: 12
D4: TASA DE INTERES | E4: 0.1471
A5: PERIODO | B5: CUOTA | C5: INTERES | D5: ABONO A CAPITAL | E5: SALDO
A6: 0 | E6: =+E2 -> 60000000
A7: =+A6+1 -> 1 | B7: =PMT(E4,E3,-E2) -> 10932156 | C7: =+E6*$E$4 -> 8826000 | D7: =+B7-C7 -> 2106155.6 | E7: =+E6-D7 -> 57893844
A8: =+A7+1 -> 2 | B8: =+B7 -> 10932156 | C8: =+E7*$E$4 -> 8516184.5 | D8: =+B8-C8 -> 2415971 | E8: =+E7-D8 -> 55477873
A9: =+A8+1 -> 3 | B9: =+B8 -> 10932156 | C9: =+E8*$E$4 -> 8160795.2 | D9: =+B9-C9 -> 2771360.4 | E9: =+E8-D9 -> 52706513
A10: =+A9+1 -> 4 | B10: =+B9 -> 10932156 | C10: =+E9*$E$4 -> 7753128.1 | D10: =+B10-C10 -> 3179027.5 | E10: =+E9-D10 -> 49527485
A11: =+A10+1 -> 5 | B11: =+B10 -> 10932156 | C11: =+E10*$E$4 -> 7285493.1 | D11: =+B11-C11 -> 3646662.4 | E11: =+E10-D11 -> 45880823
A12: =+A11+1 -> 6 | B12: =+B11 -> 10932156 | C12: =+E11*$E$4 -> 6749069.1 | D12: =+B12-C12 -> 4183086.5 | E12: =+E11-D12 -> 41697737
A13: =+A12+1 -> 7 | B13: =+B12 -> 10932156 | C13: =+E12*$E$4 -> 6133737 | D13: =+B13-C13 -> 4798418.5 | E13: =+E12-D13 -> 36899318
A14: =+A13+1 -> 8 | B14: =+B13 -> 10932156 | C14: =+E13*$E$4 -> 5427889.7 | D14: =+B14-C14 -> 5504265.9 | E14: =+E13-D14 -> 31395052
A15: =+A14+1 -> 9 | B15: =+B14 -> 10932156 | C15: =+E14*$E$4 -> 4618212.2 | D15: =+B15-C15 -> 6313943.4 | E15: =+E14-D15 -> 25081109
A16: =+A15+1 -> 10 | B16: =+B15 -> 10932156 | C16: =+E15*$E$4 -> 3689431.1 | D16: =+B16-C16 -> 7242724.5 | E16: =+E15-D16 -> 17838384
A17: =+A16+1 -> 11 | B17: =+B16 -> 10932156 | C17: =+E16*$E$4 -> 2624026.3 | D17: =+B17-C17 -> 8308129.2 | E17: =+E16-D17 -> 9530255
A18: =+A17+1 -> 12 | B18: =+B17 -> 10932156 | C18: =+E17*$E$4 -> 1401900.5 | D18: =+B18-C18 -> 9530255 | E18: =+E17-D18 -> 0

Sheet CRECIMIENTO ANUAL COMPUESTO
A2: TASA DE CRECIMIENTO ANUAL COMPUESTA
B3: 1 | C3: 2 | D3: 3 | E3: 4
B4: 2014 | C4: =+B4+1 -> 2015 | D4: =+C4+1 -> 2016 | E4: =+D4+1 -> 2017
A5: Utilidad | B5: =+'ER 2014'!C43 -> 5394000 | C5: =+'ER 2015'!C53 -> 47818000 | D5: =+' ER 2016'!C72 -> 23753000 | E5: =+'ER 2017'!C60 -> 60171000
A6: CAGR | C6: =+((C5/$B$5)^(1/C3))-1 -> 1.9774209 | D6: =+((D5/$B$5)^(1/D3))-1 -> 0.6390889 | E6: =+((E5/$B$5)^(1/E3))-1 -> 0.82754918

Sheet COMPARATIVO INDUCTORES
B2: LABS. TRANSPORTE DE CARGA S.A.S
B3: NIT. 9 0 0 6 7 3 3 6 1 - 6
B5: INDICADOR | C5: 2014 | D5: 2015 | E5: 2016 | F5: 2017
B6: EBIT/Intereses | C6: 0 | D6: 0 | E6: =EBITDA!D21/FCL!$E$13 -> 15.032999 | F6: =EBITDA!C21/FCL!$D$13 -> 5.9277989
B7: KTNO | C7: =+PKT!D48 -> 43365000 | D7: =+PKT!C48 -> -59990000 | E7: =+PKT!C33 -> 22181000 | F7: =+PKT!C17 -> 94053000
B8: PKT | C8: =+PKT!D50 -> 0.69966118 | D8: =+PKT!C50 -> -0.17431758 | E8: =+PKT!C35 -> 0.033451166 | F8: =+PKT!C19 -> 0.081865089
B9: EBITDA | C9: =+EBITDA!F21 -> 8174000 | D9: =+EBITDA!E25 -> 68781000 | E9: =+EBITDA!D25 -> 71099000 | F9: =+EBITDA!C25 -> 208506000
B10: MARGEN EBITDA | C10: =+EBITDA!F27 -> 0.13188125 | D10: =+EBITDA!E27 -> 0.19986227 | E10: =+EBITDA!D27 -> 0.1072244 | F10: =+EBITDA!C27 -> 0.18148663
B11: PDC | C11: =+'PALANCA DE CRECIMIENTO'!F13 -> 0.18849302 | D11: ='PALANCA DE CRECIMIENTO'!E13 -> -1.1465411 | E11: ='PALANCA DE CRECIMIENTO'!D13 -> 3.205401 | F11: ='PALANCA DE CRECIMIENTO'!C13 -> 2.216899
B12: CARG | C12: 0 | D12: =+'CRECIMIENTO ANUAL COMPUESTO'!C6 -> 1.9774209 | E12: =+'CRECIMIENTO ANUAL COMPUESTO'!D6 -> 0.6390889 | F12: =+'CRECIMIENTO ANUAL COMPUESTO'!E6 -> 0.82754918
B13: Ciclo de caja | C13: =+'CICLO DE CAJA '!F15 -> -135.4572 | D13: =+'CICLO DE CAJA '!E15 -> -68.509365 | E13: =+'CICLO DE CAJA '!D15 -> -18.427194 | F13: =+'CICLO DE CAJA '!C15 -> -34.723659
B14: Flujo de caja libre | C14: =+FCL!$G$21 -> 8174000 | D14: =+FCL!$F$21 -> 21036000 | E14: =+FCL!$E$21 -> -15602000 | F14: =+FCL!$D$21 -> 124335000
B65: INFORMACIÓN FINANCIERA
B67: Se puede observar en palanca de crecimiento PDC para los años 2014 y 2015 ha sido desfavorables y para 2016 y 2017 ha sido favorable esto se debe a que la empresa ha tenido un crecimiento en sus ingresos operacionales
B71: La empresa cuenta con un ciclo de caja favorable, porque es corto el tiempo en el que recupera la inversión del dinero del activo corriente, demostrando que cuenta con buena liquidez y capital para atender los pagos a corto plazo, esto puede deberse a que la cartera rota menos veces y aumenta el periodo de recaudo para el flujo de efectivo y el pago a proveedores.
B76: En la productividad del capital de trabajo históricamente, no se observa eficientemente la utilización de los recursos de KT, debido a que la cantidad de pesos que se requieren en capital de trabajo por cada peso que la empresa vende es muy alto y esto se debe a que las cuentas por pagar a proveedores de bienes y servicios incrementan inusualmente respecto a las cuentas por cobrar.
B82: El flujo de caja libre histórico demuestra que a pesar que en el año 2016 fue desfavorable, la empresa ha generado efectivo suficiente para atender la reposición de capital de trabajo, atención del servicio a la deuda y reparto de utilidades, ya que debido a sus ingresos cubre las necesidades de recursos para operar.
B87: El margen EBITDA tiene un comportamiento favorable, exceptuando el año 2016, debido a su palanca de crecimiento, sin embargo su resultado histórico demuestra que la empresa puede cubrir caja para pagar impuestos, apoyar las inversiones, cubrir el servicio a la deuda y repartir utilidades, dado que el nivel de ventas es mayor que los costos y gastos.
B92: De acuerdo al análisis del EVA la empresa no genera valor, debido a que el valor de los activos es inferior a los costos, lo que significa, que el valor de dichos activos no genera remanente porque los activos de operación no rinden por encima del costo de capital.
B96: El flujo de caja histórico demuestra que para el año 2017 tuvo un crecimiento donde la empresa cuenta con caja para soportar la atención del servicio de la deuda y el reparto de utilidades, entre otras. Este comportamiento puede deberse a que la empresa ha tomado decisiones para propender el aumento del flujo de caja y la tasa de descuento.

Sheet FLUJOS DE CAJA
A1: LABS TRANSPORTE DE CARGA SAS | C1: LABS TRANSPORTE DE CARGA SAS | E1: LABS TRANSPORTE DE CARGA SAS
A2: NIT. 9 0 0 6 7 3 3 6 1 - 6 | C2: NIT. 9 0 0 6 7 3 3 6 1 - 6 | E2: NIT. 9 0 0 6 7 3 3 6 1 - 6
A3: ESTADO DE FLUJOS DE EFECTIVO CONSOLIDADO | C3: ESTADO DE FLUJOS DE EFECTIVO CONSOLIDADO | E3: ESTADO DE FLUJOS DE EFECTIVO CONSOLIDADO
A4: A DICIEMBRE 31 DE 2017 | C4: A DICIEMBRE 31 DE 2016 | E4: A DICIEMBRE 31 DE 2015
A6: Flujo de Caja Operativo | C6: Flujo de Caja Operativo | E6: Flujo de Caja Operativo
A7: Utilidad Operacional | B7: =+'INDICADORES BASICOS'!C13 -> 60171000 | C7: Utilidad Operacional | D7: =+' ER 2016'!C52 -> 38383000 | E7: Utilidad Operacional | F7: =+'ER 2015'!C36 -> 72212000
A8: Depreciaciones | B8: =+'ER 2017'!B32+'ER 2017'!B48 -> 150953000 | C8: Depreciaciones | D8: =+' ER 2016'!B29 -> 35110000 | E8: Depreciaciones | F8: =+'ER 2017'!F32+'ER 2017'!F48 -> 0
A9: Impuesto de renta | B9: =-'ESF CONSOLI 17-16'!C78 -> -12236000 | C9: Impuesto de renta | D9: =-'ER 2015'!C51 -> -20963000 | E9: Impuesto de renta | F9: =-'BALANCE 2014'!C41 -> -2780000
A10: Ingresos no operacionales | B10: =+'ER 2017'!C73 -> 756000 | C10: Ingresos no operacionales | E10: Ingresos no operacionales | F10: =+'ER 2015'!B39 -> 25000
A11: Gastos no operacionales | B11: =-'ER 2017'!C78 -> -13083000 | C11: Gastos no operacionales | D11: =-' ER 2016'!C63 -> -2394000 | E11: Gastos no operacionales | F11: =-'ER 2015'!B43 -> -3456000
A13: Variación del Capital de Trabajo | C13: Variación del Capital de Trabajo | E13: Variación del Capital de Trabajo
A14: Variacion Cuentas Comerciales por Cobrar | B14: =-'ESF CONSOLI 17-16'!D14 -> -105477000 | C14: Variacion Cuentas Comerciales por Cobrar | D14: =-'ESF CONSOLI 16-15'!D14 -> -77704000 | E14: Variacion Cuentas Comerciales por Cobrar | F14: =+-'ESF CONSOLI 15-14'!D14 -> -27351000
A15: Variacion Cuentas por cobrar a Socios y accionistas | B15: =-'ESF CONSOLI 17-16'!D16 -> -116900000 | C15: Variacion Cuentas por cobrar a Socios y accionistas | D15: =-'ESF CONSOLI 16-15'!D15 -> -5358000 | E15: Variacion Cuentas por cobrar a Socios y accionistas | F15: =-'ESF CONSOLI 17-16'!G16 -> 0
A16: Varacion anticipos y avances entregados | B16: =-'ESF CONSOLI 17-16'!D15 -> -63610000 | C16: Varacion anticipos y avances entregados | D16: =-'ESF CONSOLI 16-15'!D16 -> 0 | E16: Varacion anticipos y avances entregados | F16: =-'ESF CONSOLI 17-16'!G15 -> 0
A17: Variacion activos por impuestos corrientes | B17: =-'ESF CONSOLI 17-16'!D17 -> -4040000 | C17: Variacion activos por impuestos corrientes | D17: =-'ESF CONSOLI 16-15'!D17 -> -6255000 | E17: Variacion activos por impuestos corrientes | F17: =-'ESF CONSOLI 15-14'!D17 -> -5621000
A18: Variacion proveedores | B18: =+'ESF CONSOLI 17-16'!D59 -> -7923000 | C18: Variacion proveedores | D18: =+'ESF CONSOLI 16-15'!D56 -> 38622000 | E18: Variacion proveedores | F18: =+'ESF CONSOLI 15-14'!D42 -> -29729000
A19: Variacion Obligaciones Financieras | B19: =+'ESF CONSOLI 17-16'!D55 -> 53044000 | C19: Variacion Obligaciones Financieras | D19: =+'ESF CONSOLI 17-16'!E55 -> 0 | E19: Variacion Obligaciones Financieras | F19: =+'ESF CONSOLI 17-16'!G55 -> 0
A20: Variacion cuentas comerciales por pagar y otras cuentas por pagar | B20: =SUM('ESF CONSOLI 17-16'!D63:D66) -> -70300000 | C20: Variacion cuentas comerciales por pagar y otras cuentas por pagar | D20: =+SUM('ESF CONSOLI 16-15'!D60:D64) -> -32712000 | E20: Variacion cuentas comerciales por pagar y otras cuentas por pagar | F20: =+'ESF CONSOLI 15-14'!D51 -> 104076000
A21: Variacion otros pasivos | B21: =+SUM('ESF CONSOLI 17-16'!D70:D72) -> 140856000 | C21: Variacion otros pasivos | D21: =+'ESF CONSOLI 16-15'!D68+'ESF CONSOLI 16-15'!D70 -> 39858000 | E21: Variacion otros pasivos | F21: =+SUM('ESF CONSOLI 17-16'!G70:G72) -> 0
A22: Variación del Capital de Trabajo | B22: =SUM(B14:B21) -> -174350000 | C22: Variación del Capital de Trabajo | D22: =SUM(D14:D21) -> -43549000 | E22: Variación del Capital de Trabajo | F22: =SUM(F14:F21) -> 41375000
A23: Neto Flujo de Caja Operativo | B23: =+B7+B8+B10+B11+B22+B9 -> 12211000 | C23: Neto Flujo de Caja Operativo | D23: =+D7+D8+D10+D11+D22+D9 -> 6587000 | E23: Neto Flujo de Caja Operativo | F23: =+F7+F8+F10+F11+F22+F9 -> 107376000
A25: Flujo de Caja Inversión | C25: Flujo de Caja Inversión | E25: Flujo de Caja Inversión
A26: Inversión Muebles y enseres | B26: 0 | C26: Inversión Muebles y enseres | D26: =-'ESF 2016'!C26 -> -1730000 | E26: Inversión Muebles y enseres | F26: =-'ESF CONSOLI 17-16'!G41 -> 0
A27: Inversión equipo de procesamiento de datos | B27: 0 | C27: Inversión equipo de procesamiento de datos | D27: =-'ESF 2016'!C30 -> -2800000 | E27: Inversión equipo de procesamiento de datos
A28: Inversión Flota y Equipo de transporte | C28: Inversión Flota y Equipo de transporte | E28: Inversión Flota y Equipo de transporte | F28: =-'ESF CONSOLI 15-14'!D26 -> -151100000
A29: Inversión intangibles | B29: =-'ESF CONSOLI 17-16'!D41 -> -2590000 | C29: Inversión intangibles | D29: =-'ESF CONSOLI 16-15'!D41 -> -1469000 | E29: Inversión intangibles
A31: Neto Flujo de Caja Inversión | B31: =+B29 -> -2590000 | C31: Neto Flujo de Caja Inversión | D31: =+D26+D27+D29 -> -5999000 | E31: Neto Flujo de Caja Inversión | F31: =+F26+F27+F29+F28 -> -151100000
A33: Flujo de Caja Financiamiento | C33: Flujo de Caja Financiamiento | E33: Flujo de Caja Financiamiento
A34: Variacion Pasivo Largo Plazo | C34: Variacion Pasivo Largo Plazo | E34: Variacion Pasivo Largo Plazo
A35: Pago dividendos | C35: Pago dividendos | E35: Pago dividendos
A36: Neto Flujo de Caja Financiamiento | C36: Neto Flujo de Caja Financiamiento | E36: Neto Flujo de Caja Financiamiento
A38: Neto Periodo | B38: =+B23+B31+B36 -> 9621000 | C38: Neto Periodo | D38: =+D23+D31+D36 -> 588000 | E38: Neto Periodo | F38: =+F23+F31+F36 -> -43724000
A39: Saldo anterior | B39: =+'ESF CONSOLI 17-16'!C11 -> 3653000 | C39: Saldo anterior | D39: =+'ESF 2015'!C12 -> 3065000 | E39: Saldo anterior | F39: =+'ESF CONSOLI 15-14'!C11 -> 46789000
A40: Saldo siguiente | B40: =+B38+B39 -> 13274000 | C40: Saldo siguiente | D40: =+D38+D39 -> 3653000 | E40: Saldo siguiente | F40: =+F38+F39 -> 3065000
A43: Resultado:
A44: El flujo de caja histórico demuestra que para el año 2017 tuvo un crecimiento donde la empresa cuenta con caja para soportar la atención del servicio de la deuda y el reparto de utilidades, entre otras. Este comportamiento puede deberse a que la empresa ha tomado decisiones para propender el aumento del flujo de caja y la tasa de descuento

Sheet INDICADORES BASICOS
B2: LABS TRANSPORTE DE CARGA SAS
B3: NIT. 9 0 0 6 7 3 3 6 1 - 6
B5: ESTADO DE RESULTADO COMPARATIVO 2017 VS 2016
B7: CUENTAS | C7: 2017 | D7: ANALISIS VERTICAL | E7: ANALISIS HORIZONTAL | F7: 2016 | G7: ANALISIS VERTICAL
B8: INGRESOS OPERACIONALES | C8: ='ER 2017'!C10 -> 1148878000 | D8: =(C8/$C$8)*100% -> 1 | E8: =((C8/F8)-1)*100% -> 0.73262292 | F8: =' ER 2016'!C10 -> 663086000 | G8: =(F8/$F$8)/100% -> 1
B9: COSTO DE VENTAS | C9: ='ER 2017'!C33 -> 1010660000 | D9: =(C9/$C$8)*100% -> 0.87969306 | E9: =((C9/F9)-1)*100% -> 0.77447305 | F9: =' ER 2016'!C31 -> 569555000 | G9: =(F9/$F$8)/100% -> 0.8589459
B10: UTILIDAD BRUTA | C10: ='ER 2017'!C35 -> 138218000 | D10: =(C10/$C$8)*100% -> 0.12030694 | E10: =((C10/F10)-1)*100% -> 0.47777742 | F10: =' ER 2016'!C33 -> 93531000 | G10: =(F10/$F$8)/100% -> 0.1410541
B11: GASTOS OPERACIONALES DE ADMINISTRACION | C11: ='ER 2017'!C50 -> 76822000 | D11: =(C11/$C$8)*100% -> 0.066866978 | E11: =((C11/F11)-1)*100% -> 0.40025154 | F11: =' ER 2016'!C44 -> 54863000 | G11: =(F11/$F$8)/100% -> 0.082738891
B12: GASTOS OPERACIONALES DE VENTAS | C12: ='ER 2017'!C56 -> 1225000 | D12: =(C12/$C$8)*100% -> 0.0010662577 | E12: =((C12/F12)-1)*100% -> 3.2982456 | F12: =' ER 2016'!C48 -> 285000 | G12: =(F12/$F$8)/100% -> 0.0004298085
B13: UTILIDAD OPERACIONAL | C13: ='ER 2017'!C60 -> 60171000 | D13: =(C13/$C$8)*100% -> 0.052373707 | E13: =((C13/F13)-1)*100% -> 0.56764714 | F13: =' ER 2016'!C52 -> 38383000 | G13: =(F13/$F$8)/100% -> 0.057885402
B14: INGRESOS NO OPERACIONALES | C14: ='ER 2017'!C73 -> 756000 | D14: =(C14/$C$8)*100% -> 0.00065803332 | E14: 0 | G14: =(F14/$F$8)/100% -> 0
B15: GASTOS NO OPERACIONALES | C15: ='ER 2017'!C78 -> 13083000 | D15: =(C15/$C$8)*100% -> 0.011387632 | E15: =((C15/F15)-1)*100% -> 4.4649123 | F15: =' ER 2016'!C63 -> 2394000 | G15: =(F15/$F$8)/100% -> 0.0036103914
B16: UTILIDAD ANTES DE IMPUESTO | C16: ='ER 2017'!C80 -> 47844000 | D16: =(C16/$C$8)*100% -> 0.041644108 | E16: =((C16/F16)-1)*100% -> 0.32940621 | F16: =' ER 2016'!C65 -> 35989000 | G16: =(F16/$F$8)/100% -> 0.054275011
B17: CREE | D17: =(C17/$C$8)*100% -> 0 | E17: =((C17/F17)-1)*100% -> -1 | F17: =' ER 2016'!B69 -> 3239000 | G17: =(F17/$F$8)/100% -> 0.0048847359
B18: IMPUESTO DE RENTA | C18: ='ER 2017'!B83 -> 16267000 | D18: =(C18/$C$8)*100% -> 0.014159032 | E18: =((C18/F18)-1)*100% -> 0.80804713 | F18: =' ER 2016'!B68 -> 8997000 | G18: =(F18/$F$8)/100% -> 0.013568376
B19: UTILIDAD NETA | C19: ='ER 2017'!C86 -> 31577000 | D19: =(C19/$C$8)*100% -> 0.027485077 | E19: =((C19/F19)-1)*100% -> 0.32938997 | F19: =' ER 2016'!C72 -> 23753000 | G19: =(F19/$F$8)/100% -> 0.035821899
B23: ESTADO DE RESULTADO COMPARATIVO 2016 VS 2015
B25: CUENTAS | C25: 2016 | D25: ANALISIS VERTICAL | E25: ANALISIS HORIZONTAL | F25: 2015 | G25: ANALISIS VERTICAL
B26: INGRESOS OPERACIONALES | C26: =F8 -> 663086000 | D26: =(C26/$C$26)*100% -> 1 | E26: =((C26/F26)-1)*100% -> 0.92678022 | F26: ='ER 2015'!C11 -> 344142000 | G26: =(F26/$F$26)*100% -> 1
B27: COSTO DE VENTAS | C27: =F9 -> 569555000 | D27: =(C27/$C$26)*100% -> 0.8589459 | E27: =((C27/F27)-1)*100% -> 1.3401209 | F27: ='ER 2015'!C22 -> 243387000 | G27: =(F27/$F$26)*100% -> 0.70722841
B28: UTILIDAD BRUTA | C28: =F10 -> 93531000 | D28: =(C28/$C$26)*100% -> 0.1410541 | E28: =((C28/F28)-1)*100% -> -0.071698675 | F28: ='ER 2015'!C24 -> 100755000 | G28: =(F28/$F$26)*100% -> 0.29277159
B29: GASTOS OPERACIONALES DE ADMIN. | C29: =F11 -> 54863000 | D29: =(C29/$C$26)*100% -> 0.082738891 | E29: =((C29/F29)-1)*100% -> 0.92211751 | F29: ='ER 2015'!C32 -> 28543000 | G29: =(F29/$F$26)*100% -> 0.082939601
B30: GASTOS OPERACIONALES DE VENTAS | C30: =F12 -> 285000 | D30: =(C30/$C$26)*100% -> 0.0004298085 | E30: 0 | G30: =(F30/$F$26)*100% -> 0
B31: UTILIDAD OPERACIONAL | C31: =F13 -> 38383000 | D31: =(C31/$C$26)*100% -> 0.057885402 | E31: =((C31/F31)-1)*100% -> -0.46846784 | F31: ='ER 2015'!C36 -> 72212000 | G31: =(F31/$F$26)*100% -> 0.20983199
B32: INGRESOS NO OPERACIONALES | D32: =(C32/$C$26)*100% -> 0 | E32: =((C32/F32)-1)*100% -> -1 | F32: ='ER 2015'!B39 -> 25000 | G32: =(F32/$F$26)*100% -> 7.2644432e-05
B33: GASTOS NO OPERACIONALES | C33: =F15 -> 2394000 | D33: =(C33/$C$26)*100% -> 0.0036103914 | E33: =((C33/F33)-1)*100% -> -0.30729167 | F33: ='ER 2015'!C44 -> 3456000 | G33: =(F33/$F$26)*100% -> 0.010042366
B34: UTILIDAD ANTES DE IMPUESTO | C34: =F16 -> 35989000 | D34: =(C34/$C$26)*100% -> 0.054275011 | E34: =((C34/F34)-1)*100% -> -0.47675957 | F34: ='ER 2015'!C46 -> 68781000 | G34: =(F34/$F$26)*100% -> 0.19986227
B35: CREE | C35: =F17 -> 3239000 | D35: =(C35/$C$26)*100% -> 0.0048847359 | E35: =((C35/F35)-1)*100% -> -0.14039278 | F35: ='ER 2015'!B50 -> 3768000 | G35: =(F35/$F$26)*100% -> 0.010948969
B36: IMPUESTO DE RENTA | C36: =F18 -> 8997000 | D36: =(C36/$C$26)*100% -> 0.013568376 | E36: =((C36/F36)-1)*100% -> -0.4767665 | F36: ='ER 2015'!B49 -> 17195000 | G36: =(F36/$F$26)*100% -> 0.04996484
B37: UTILIDAD NETA | C37: =F19 -> 23753000 | D37: =(C37/$C$26)*100% -> 0.035821899 | E37: =((C37/F37)-1)*100% -> -0.50326237 | F37: ='ER 2015'!C53 -> 47818000 | G37: =(F37/$F$26)*100% -> 0.13894846
B39: ESTADO DE RESULTADO COMPARATIVO 2015 VS 2014 (En Miles de Pesos)
B41: CUENTAS | C41: 2015 | D41: ANALISIS VERTICAL | E41: ANALISIS HORIZONTAL | F41: 2014 | G41: ANALISIS VERTICAL
B42: INGRESOS OPERACIONALES | C42: =F26 -> 344142000 | D42: =(C42/$C$42)*100% -> 1 | E42: =((C42/F42)-1)*100% -> 4.5524685 | F42: ='ER 2014'!C9 -> 61980000 | G42: =(F42/$F$42)*100% -> 1
B43: COSTO DE VENTAS | C43: =F27 -> 243387000 | D43: =(C43/$C$42)*100% -> 0.70722841 | E43: =((C43/F43)-1)*100% -> 3.6922499 | F43: ='ER 2014'!C22 -> 51870000 | G43: =(F43/$F$42)*100% -> 0.83688287
B44: UTILIDAD BRUTA | C44: =F28 -> 100755000 | D44: =(C44/$C$42)*100% -> 0.29277159 | E44: =((C44/F44)-1)*100% -> 8.9658754 | F44: ='ER 2014'!C24 -> 10110000 | G44: =(F44/$F$42)*100% -> 0.16311713
B45: GASTOS OPERACIONALES DE ADMIN. | C45: =F29 -> 28543000 | D45: =(C45/$C$42)*100% -> 0.082939601 | E45: =((C45/F45)-1)*100% -> 13.743285 | F45: ='ER 2014'!C32 -> 1936000 | G45: =(F45/$F$42)*100% -> 0.031235883
B46: UTILIDAD OPERACIONAL | C46: =F31 -> 72212000 | D46: =(C46/$C$42)*100% -> 0.20983199 | E46: =((C46/F46)-1)*100% -> 7.8343528 | F46: ='ER 2014'!C36 -> 8174000 | G46: =(F46/$F$42)*100% -> 0.13188125
B47: INGRESOS NO OPERACIONALES | C47: =F32 -> 25000 | D47: =(C47/$C$42)*100% -> 7.2644432e-05 | E47: 0 | G47: =(F47/$F$42)*100% -> 0
B48: GASTOS NO OPERACIONALES | C48: =F33 -> 3456000 | D48: =(C48/$C$42)*100% -> 0.010042366 | E48: 0 | G48: =(F48/$F$42)*100% -> 0
B49: UTILIDAD ANTES DE IMPUESTO | C49: =F34 -> 68781000 | D49: =(C49/$C$42)*100% -> 0.19986227 | E49: =((C49/F49)-1)*100% -> 7.4146073 | F49: =F46 -> 8174000 | G49: =(F49/$F$42)*100% -> 0.13188125
...

Sheet EST. RESUL. HIST.
B2: LABS TRANSPORTE DE CARGA SAS
B3: NIT. 9 0 0 6 7 3 3 6 1 - 6
B5: ESTADO DE RESULTADO HISTÓTICO 2014-2017
B7: CUENTAS | C7: 2017 | D7: 2016 | E7: 2015 | F7: 2014
B8: INGRESOS OPERACIONALES | C8: ='ER 2017'!C10 -> 1148878000 | D8: =' ER 2016'!C10 -> 663086000 | E8: ='INDICADORES BASICOS'!C42 -> 344142000 | F8: ='INDICADORES BASICOS'!F42 -> 61980000
B9: COSTO DE VENTAS | C9: ='ER 2017'!C33 -> 1010660000 | D9: =' ER 2016'!C31 -> 569555000 | E9: ='INDICADORES BASICOS'!C43 -> 243387000 | F9: ='INDICADORES BASICOS'!F43 -> 51870000
B10: UTILIDAD BRUTA | C10: ='ER 2017'!C35 -> 138218000 | D10: =' ER 2016'!C33 -> 93531000 | E10: ='INDICADORES BASICOS'!C44 -> 100755000 | F10: ='INDICADORES BASICOS'!F44 -> 10110000
B11: GASTOS OPERACIONALES DE ADMINISTRACION | C11: ='ER 2017'!C50 -> 76822000 | D11: =' ER 2016'!C44 -> 54863000 | E11: ='INDICADORES BASICOS'!C45 -> 28543000 | F11: ='INDICADORES BASICOS'!F45 -> 1936000
B12: GASTOS OPERACIONALES DE VENTAS | C12: ='ER 2017'!C56 -> 1225000 | D12: =' ER 2016'!C48 -> 285000 | E12: 0 | F12: ='ER 2014'!H2 -> 0
B13: UTILIDAD OPERACIONAL | C13: ='ER 2017'!C60 -> 60171000 | D13: =' ER 2016'!C52 -> 38383000 | E13: ='INDICADORES BASICOS'!C46 -> 72212000 | F13: ='INDICADORES BASICOS'!F46 -> 8174000
B14: INGRESOS NO OPERACIONALES | C14: ='ER 2017'!C73 -> 756000 | E14: ='INDICADORES BASICOS'!C47 -> 25000 | F14: ='INDICADORES BASICOS'!F47 -> 0
B15: GASTOS NO OPERACIONALES | C15: ='ER 2017'!C78 -> 13083000 | D15: =' ER 2016'!C63 -> 2394000 | E15: ='INDICADORES BASICOS'!C48 -> 3456000 | F15: ='INDICADORES BASICOS'!F48 -> 0
B16: UTILIDAD ANTES DE IMPUESTO | C16: ='ER 2017'!C80 -> 47844000 | D16: =' ER 2016'!C65 -> 35989000 | E16: ='INDICADORES BASICOS'!C49 -> 68781000 | F16: ='INDICADORES BASICOS'!F49 -> 8174000
B17: CREE | D17: =' ER 2016'!B69 -> 3239000 | E17: ='INDICADORES BASICOS'!C50 -> 3768000 | F17: ='INDICADORES BASICOS'!F50 -> 0
B18: IMPUESTO DE RENTA | C18: ='ER 2017'!B83 -> 16267000 | D18: =' ER 2016'!B68 -> 8997000 | E18: ='INDICADORES BASICOS'!C51 -> 17195000 | F18: ='INDICADORES BASICOS'!F51 -> 0
B19: UTILIDAD NETA | C19: ='ER 2017'!C86 -> 31577000 | D19: =' ER 2016'!C72 -> 23753000 | E19: ='INDICADORES BASICOS'!C52 -> 47818000 | F19: ='INDICADORES BASICOS'!F52 -> 8174000

Sheet ESF CONSOLI 17-16
A1: LABS TRANSPORTE DE CARGA SAS
A2: NIT. 9 0 0 6 7 3 3 6 1 - 6
A4: ESTADO DE SITUACION FINANCIERA CONSOLIDADO
A6: ACTIVO | B6: 2017 | C6: 2016 | D6: VARIACION
A7: ACTIVO CORRIENTE
A8: EFECTIVO Y EQUIVALENTES DE EFECTIVO
A9: Caja | B9: 2419000 | C9: =+'ESF 2016'!B10 -> 883000 | D9: =+B9-C9 -> 1536000
A10: Bancolombia Cuenta de ahorros N° 26215832111 | B10: 10855000 | C10: =+'ESF 2016'!B11 -> 2770000 | D10: =+B10-C10 -> 8085000
A11: TOTAL EFECTIVO Y EQUIVALENTES DE EFECTIVO | B11: =SUM(B9:B10) -> 13274000 | C11: =SUM(C9:C10) -> 3653000
A13: CUENTAS COMERCIALES Y OTRAS CUENTAS POR COBRAR
A14: Clientes | B14: 221026000 | C14: =+'ESF 2016'!B15 -> 115549000 | D14: =+B14-C14 -> 105477000
A15: Anticipos y avances | B15: 68968000 | C15: =+'ESF 2016'!B16 -> 5358000 | D15: =+B15-C15 -> 63610000
A16: Cuentas por cobrar a socios y accionistas | B16: 116900000 | D16: =+B16-C16 -> 116900000
A17: Anticipos de Impuestos y Contribuciones | B17: 16536000 | C17: =+'ESF 2016'!B17 -> 12496000 | D17: =+B17-C17 -> 4040000
A18: TOTAL CUENTAS COMERCIALES Y OTRAS CUENTAS POR COBRAR | B18: =SUM(B14:B17) -> 423430000 | C18: =SUM(C14:C17) -> 133403000
A20: TOTAL ACTIVO CORRIENTE | B20: =+B11+B18 -> 436704000 | C20: =+C11+C18 -> 137056000
A22: ACTIVO NO CORRIENTE
A23: PROPIEDAD PLANTA Y EQUIPO
A25: EQUIPO DE OFICINA
A26: Muebles y enseres | B26: 1730000 | C26: =+'ESF 2016'!B25 -> 1730000 | D26: =+B26-C26 -> 0
A27: Depreciacion acumulada | B27: -173000 | D27: =+B27-C27 -> -173000
A28: TOTAL EQUIPO DE OFICINA | B28: =SUM(B26:B27) -> 1557000 | C28: =SUM(C26:C27) -> 1730000
A30: EQUIPO DE COMPUTACION Y COMUNICACIÓN
A31: Equipos de procesamientos de datos | B31: 2800000 | C31: =+'ESF 2016'!B29 -> 2800000
A32: Depreciacion acumulada | B32: -560000 | D32: =+B32-C32 -> -560000
A33: TOTAL EQUIPO DE COMPUTACION Y COMUNICACIÓN | B33: =SUM(B31:B32) -> 2240000 | C33: =SUM(C31:C32) -> 2800000
A35: FLOTA Y EQUIPO DE TRANSPORTE
A36: Tractomulas y Remolques | B36: 751100000 | C36: =+'ESF 2016'!B33 -> 751100000 | D36: =+B36-C36 -> 0
A37: Depreciacion acumulada | B37: -185330000 | C37: =+'ESF 2016'!B34 -> -35110000 | D37: =+B37-C37 -> -150220000
A38: TOTAL FLOTA Y EQUIPO DE TRANSPORTE | B38: =SUM(B36:B37) -> 565770000 | C38: =SUM(C36:C37) -> 715990000
A40: INTANGIBLES
A41: Licencias | B41: =3598000+461000 -> 4059000 | C41: =+'ESF 2016'!B40 -> 1469000 | D41: =+B41-C41 -> 2590000
A42: TOTAL INTANGIBLES | B42: =+B41 -> 4059000 | C42: =+C41 -> 1469000
A44: TOTAL ACTIVO NO CORRIENTE | B44: =+B28+B33+B38+B42 -> 573626000 | C44: =+C28+C33+C38+C42 -> 721989000
A46: TOTAL ACTIVO | B46: =+B44+B20 -> 1010330000 | C46: =+C44+C20 -> 859045000
A48: LABS TRANSPORTE DE CARGA SAS
A49: NIT. 9 0 0 6 7 3 3 6 1 - 6
A51: ESTADO DE SITUACION FINANCIERA CONSOLIDADO
A53: PASIVO | B53: 2017 | C53: 2016 | D53: VARIACION
A54: OBLIGACIONES FINANCIERAS
...

Sheet ESF CONSOLI 16-15
A1: LABS TRANSPORTE DE CARGA SAS
A2: NIT. 9 0 0 6 7 3 3 6 1 - 6
A4: ESTADO DE SITUACION FINANCIERA CONSOLIDADO
A6: ACTIVO | B6: 2016 | C6: 2015 | D6: VARIACION
A7: ACTIVO CORRIENTE
A8: EFECTIVO Y EQUIVALENTES DE EFECTIVO
A9: Caja | B9: =+'ESF 2016'!B10 -> 883000 | C9: =+'ESF 2015'!B11 -> 3065000 | D9: =+B9-C9 -> -2182000
A10: Bancolombia Cuenta de ahorros N° 26215832111 | B10: =+'ESF 2016'!B11 -> 2770000 | C10: =+'ESF 2016'!C11 -> 0 | D10: =+B10-C10 -> 2770000
A11: TOTAL EFECTIVO Y EQUIVALENTES DE EFECTIVO | B11: =SUM(B9:B10) -> 3653000 | C11: =SUM(C9:C10) -> 3065000
A13: CUENTAS COMERCIALES Y OTRAS CUENTAS POR COBRAR
A14: Clientes | B14: =+'ESF 2016'!B15 -> 115549000 | C14: =+'ESF 2015'!B15 -> 37845000 | D14: =+B14-C14 -> 77704000
A15: Anticipos y avances | B15: =+'ESF 2016'!B16 -> 5358000 | D15: =+B15-C15 -> 5358000
A16: Cuentas por cobrar a socios y accionistas | B16: 0 | D16: =+B16-C16 -> 0
A17: Anticipos de Impuestos y Contribuciones | B17: =+'ESF 2016'!B17 -> 12496000 | C17: =+'ESF 2015'!B16 -> 6241000 | D17: =+B17-C17 -> 6255000
A18: TOTAL CUENTAS COMERCIALES Y OTRAS CUENTAS POR COBRAR | B18: =SUM(B14:B17) -> 133403000 | C18: =SUM(C14:C17) -> 44086000
A20: TOTAL ACTIVO CORRIENTE | B20: =+B11+B18 -> 137056000 | C20: =+C11+C18 -> 47151000
A22: ACTIVO NO CORRIENTE
A23: PROPIEDAD PLANTA Y EQUIPO
A25: EQUIPO DE OFICINA
A26: Muebles y enseres | B26: =+'ESF 2016'!B25 -> 1730000 | C26: 0 | D26: =+B26-C26 -> 1730000
A27: Depreciacion acumulada | D27: =+B27-C27 -> 0
A28: TOTAL EQUIPO DE OFICINA | B28: =SUM(B26:B27) -> 1730000 | C28: =SUM(C26:C27) -> 0
A30: EQUIPO DE COMPUTACION Y COMUNICACIÓN
A31: Equipos de procesamientos de datos | B31: =+'ESF 2016'!B29 -> 2800000 | C31: 0 | D31: =+B31-C31 -> 2800000
A32: Depreciacion acumulada | B32: 0 | C32: 0
A33: TOTAL EQUIPO DE COMPUTACION Y COMUNICACIÓN | B33: =SUM(B31:B32) -> 2800000
A35: FLOTA Y EQUIPO DE TRANSPORTE
A36: Tractomulas y Remolques | B36: =+'ESF 2016'!B33 -> 751100000 | C36: =+'ESF 2015'!B24 -> 751100000 | D36: =+B36-C36 -> 0
A37: Depreciacion acumulada | B37: =+'ESF 2016'!B34 -> -35110000 | C37: 0 | D37: =+B37-C37 -> -35110000
A38: TOTAL FLOTA Y EQUIPO DE TRANSPORTE | B38: =SUM(B36:B37) -> 715990000 | C38: =SUM(C36:C37) -> 751100000
A40: INTANGIBLES
A41: Licencias | B41: =+'ESF 2016'!B40 -> 1469000 | C41: 0 | D41: =+B41-C41 -> 1469000
A42: TOTAL INTANGIBLES | B42: =+B41 -> 1469000 | C42: =+C41 -> 0
A44: TOTAL ACTIVO NO CORRIENTE | B44: =+B28+B33+B38+B42 -> 721989000 | C44: =+C28+C33+C38+C42 -> 751100000
A46: TOTAL ACTIVO | B46: =+B44+B20 -> 859045000 | C46: =+C44+C20 -> 798251000
A48: LABS TRANSPORTE DE CARGA SAS
A49: NIT. 9 0 0 6 7 3 3 6 1 - 6
A51: ESTADO DE SITUACION FINANCIERA CONSOLIDADO
A53: PASIVO | B53: 2016 | C53: 2015 | D53: VARIACION
A55: PROVEEDORES
...

Sheet ESF CONSOLI 15-14
A1: LABS TRANSPORTE DE CARGA SAS
A2: NIT. 9 0 0 6 7 3 3 6 1 - 6
A4: ESTADO DE SITUACION FINANCIERA CONSOLIDADO
A6: ACTIVO | B6: 2015 | C6: 2014 | D6: VARIACION
A7: ACTIVO CORRIENTE
A8: EFECTIVO Y EQUIVALENTES DE EFECTIVO
A9: Caja | B9: =+'ESF 2015'!B11 -> 3065000 | C9: =+'BALANCE 2014'!B10 -> 13891000 | D9: =+B9-C9 -> -10826000
A10: Bancolombia Cuenta de ahorros N° 26215832111 | B10: =+'ESF 2016'!C11 -> 0 | C10: =+'BALANCE 2014'!B11 -> 32898000 | D10: =+B10-C10 -> -32898000
A11: TOTAL EFECTIVO Y EQUIVALENTES DE EFECTIVO | B11: =SUM(B9:B10) -> 3065000 | C11: =SUM(C9:C10) -> 46789000 | D11: =+B11-C11 -> -43724000
A13: CUENTAS COMERCIALES Y OTRAS CUENTAS POR COBRAR
A14: Clientes | B14: =+'ESF 2015'!B15 -> 37845000 | C14: =+'BALANCE 2014'!B15 -> 10494000 | D14: =+B14-C14 -> 27351000
A15: Anticipos y avances | D15: =+B15-C15 -> 0
A16: Cuentas por cobrar a socios y accionistas | D16: =+B16-C16 -> 0
A17: Anticipos de Impuestos y Contribuciones | B17: =+'ESF 2015'!B16 -> 6241000 | C17: =+'BALANCE 2014'!B16 -> 620000 | D17: =+B17-C17 -> 5621000
A18: TOTAL CUENTAS COMERCIALES Y OTRAS CUENTAS POR COBRAR | B18: =SUM(B14:B17) -> 44086000 | C18: =SUM(C14:C17) -> 11114000
A20: TOTAL ACTIVO CORRIENTE | B20: =+B11+B18 -> 47151000 | C20: =+C11+C18 -> 57903000
A22: ACTIVO NO CORRIENTE
A23: PROPIEDAD PLANTA Y EQUIPO
A25: FLOTA Y EQUIPO DE TRANSPORTE
A26: Tractomulas y Remolques | B26: =+'ESF 2015'!B24 -> 751100000 | C26: =+'BALANCE 2014'!B25 -> 600000000 | D26: =+B26-C26 -> 151100000
A27: Depreciacion acumulada | B27: 0 | C27: 0
A28: TOTAL FLOTA Y EQUIPO DE TRANSPORTE | B28: =SUM(B26:B27) -> 751100000 | C28: =SUM(C26:C27) -> 600000000
A30: TOTAL ACTIVO NO CORRIENTE | B30: =+B28 -> 751100000 | C30: =+C28 -> 600000000
A32: TOTAL ACTIVO | B32: =+B30+B20 -> 798251000 | C32: =+C30+C20 -> 657903000
A34: LABS TRANSPORTE DE CARGA SAS
A35: NIT. 9 0 0 6 7 3 3 6 1 - 6
A37: ESTADO DE SITUACION FINANCIERA CONSOLIDADO
A39: PASIVO | B39: 2015 | C39: 2014 | D39: VARIACION
A41: PROVEEDORES
A42: Nacionales | B42: 0 | C42: =+'BALANCE 2014'!B35 -> 29729000 | D42: =+B42-C42 -> -29729000
A43: TOTAL PROVEEDORES | B43: =+B42 -> 0 | C43: =+C42 -> 29729000
A45: CUENTAS POR PAGAR COMERCIALES Y OTRAS CUENTAS POR PAGAR
A46: Costos y Gastos por pagar
A47: Retencion en la fuente | B47: =+'ESF 2015'!B34 -> 135000 | C47: 0 | D47: =+B47-C47 -> 135000
A48: ICAindustria y comercio | B48: =+'ESF 2015'!B35 -> 23000 | C48: 0 | D48: =+B48-C48 -> 23000
A49: Retenciones y aportes de nomina | C49: 0 | D49: =+B49-C49 -> 0
A50: Cuentas por pagar a socios y accionistas | B50: =+'ESF 2015'!B36 -> 103918000 | D50: =+B50-C50 -> 103918000
A51: TOTAL CUENTAS POR PAGAR COMERCIALES Y OTRAS CUENTAS POR PAGAR | B51: =+SUM(B46:B50) -> 104076000 | D51: =+B51-C51 -> 104076000
A53: PASIVO POR IMPUESTO CORRIENTE
A54: Impuesto de renta y complementarios | B54: =+'ESF 2015'!B40 -> 17195000 | C54: =+'BALANCE 2014'!B39 -> 2044000 | D54: =+B54-C54 -> 15151000
...

Sheet ER 2017
A1: LABS TRANSPORTE DE CARGA SAS
A2: NIT. 9 0 0 6 7 3 3 6 1 - 6
A4: ESTADO DE RESULTADOS INTEGRAL Y OTRO RESULTADO
A5: DESDE EL 01 DE ENERO AL 31 DE DICIEMBRE DE 2017
A7: INGRESOS ORDINARIOS
A8: Servicio de Transporte de carga por Carretera | B8: 1123466000
A9: Comisiones intermediacion de transporte | B9: 25412000
A10: TOTAL INGRESOS | C10: =+B9+B8 -> 1148878000
A12: COSTO DE VENTA
A13: SERVICIO DE TRANSPORTE DE CARGA POR CARRETERA
A14: Gastos de personal | B14: 80517000
A15: Viaticos | B15: 3382000
A16: Cargue | B16: 20646000
A17: Descargue | B17: 14504000
A18: Combustible | B18: 392883000
A19: Mantenimiento y reparaciones | B19: 87919000
A20: Lavadas | B20: 3010000
A21: Llantas | B21: 39993000
A22: GPS | B22: 9949000
A23: SOAT y todo riesgo | B23: 38666000
A24: Peajes | B24: 145671000
A25: Parqueos | B25: 873000
... A32: Depreciacion | B32: 150220000
A33: TOTAL COSTOS DE VENTAS | C33: =SUM(B14:B32) -> 1010660000
A35: UTILIDAD BRUTA EN VENTAS | C35: =C10-C33 -> 138218000
A37: GASTOS ORDINARIOS
A38: OPERACIONALES DE ADMINISTRACION
A39: Gastos de Personal | B39: 33785000
A40: Honorarios | B40: 27425000
A41: Impuestos | B41: 2884000
A42: Arrendamientos | B42: 2350000
A43: Servicios | B43: 1222000
A44: Gastos legales | B44: 1920000
A45: Mantenimiento y reparaciones | B45: 505000
A46: Adecuacion e instalacion | B46: 268000
A47: Gastos de Viaje | B47: 36000
A48: Depreciaciones | B48: 733000
A49: Diversos | B49: =4225000+1469000 -> 5694000
A50: TOTAL GASTO OPERACIONALES DE ADMINISTRACION | C50: =+SUM(B39:B49) -> 76822000
A52: OPERACIONALES DE VENTAS
...

Sheet ESF 2017
A1: LABS TRANSPORTE DE CARGA SAS
A2: NIT. 9 0 0 6 7 3 3 6 1 - 6
A4: ESTADO DE SITUACION FINANCIERA
A5: AL 31 DE DICIEMBRE DE 2017
A7: ACTIVO
A8: ACTIVO CORRIENTE
A9: EFECTIVO Y EQUIVALENTES DE EFECTIVO
A10: Caja | B10: 2419000
A11: Bancolombia Cuenta de ahorros N° 26215832111 | B11: 10855000
A12: TOTAL EFECTIVO Y EQUIVALENTES DE EFECTIVO | C12: =+B10+B11 -> 13274000
A14: CUENTAS COMERCIALES Y OTRAS CUENTAS POR COBRAR
A15: Clientes | B15: 221026000
A16: Anticipos y avances | B16: 68968000
A17: Cuentas por cobrar a socios y accionistas | B17: 116900000
A18: Anticipos de Impuestos y Contribuciones | B18: 16536000
A19: TOTAL CUENTAS COMERCIALES Y OTRAS CUENTAS POR COBRAR | C19: =SUM(B15:B18) -> 423430000
A21: TOTAL ACTIVO CORRIENTE | C21: =+C12+C19 -> 436704000
A23: ACTIVO NO CORRIENTE
A24: PROPIEDAD PLANTA Y EQUIPO
A26: EQUIPO DE OFICINA
A27: Muebles y enseres | B27: 1730000
A28: Depreciacion acumulada | B28: -173000
A29: TOTAL EQUIPO DE OFICINA | C29: =+B27+B28 -> 1557000
A31: EQUIPO DE COMPUTACION Y COMUNICACIÓN
A32: Equipos de procesamientos de datos | B32: 2800000
A33: Depreciacion acumulada | B33: -560000
A34: TOTAL EQUIPO DE COMPUTACION Y COMUNICACIÓN | C34: =+B32+B33 -> 2240000
A36: FLOTA Y EQUIPO DE TRANSPORTE
A37: Tractomulas y Remolques | B37: 751100000
A38: Depreciacion acumulada | B38: -185330000
A39: TOTAL FLOTA Y EQUIPO DE TRANSPORTE | C39: =+B37+B38 -> 565770000
A41: INTANGIBLES
A42: Licencias | B42: =3598000+461000 -> 4059000
A43: TOTAL INTANGIBLES | C43: =+B42 -> 4059000
A45: TOTAL ACTIVO NO CORRIENTE | C45: =+C29+C34+C39+C43 -> 573626000
A47: TOTAL ACTIVO | C47: =+C21+C45 -> 1010330000
A49: LABS TRANSPORTE DE CARGA SAS
A50: NIT. 9 0 0 6 7 3 3 6 1 - 6
A52: ESTADO DE SITUACION FINANCIERA
A53: AL 31 DE DICIEMBRE DE 2017
...

Sheet  ER 2016
A1: LABS TRANSPORTE DE CARGA SAS
A2: NIT. 9 0 0 6 7 3 3 6 1 - 6
A4: ESTADO DE RESULTADOS INTEGRAL
A5: DESDE EL 01 DE ENERO AL 31 DE DICIEMBRE DE 2016
A7: INGRESOS
A8: Servicio de Transporte de carga por Carretera | B8: 641928000
A9: Servicio Complementarios para el Transporte | B9: 21158000
A10: TOTAL INGRESOS | C10: =+B9+B8 -> 663086000
A12: COSTO DE VENTA
A13: SERVICIO DE TRANSPORTE DE CARGA POR CARRETERA
A14: Gastos de personal | B14: 40274000
A15: Cargue | B15: 1757000
A16: Descargue | B16: 426000
A17: Combustible | B17: 200012000
A18: Mantenimiento y reparaciones | B18: 98507000
A19: Lavadas | B19: 1062000
A20: Llantas | B20: 38400000
A21: GPS | B21: 21576000
A22: SOAT y todo riesgo | B22: 39599000
A23: Peajes | B23: 86554000
A24: Parqueos | B24: =776500+500 -> 777000
A25: Dotacion | B25: 900000
A26: Bascula | B26: 36000
A27: Seguridad y salud ocupacional | B27: 2674000
A28: Revision tecnomecanica | B28: 598000
A29: Depreciacion | B29: 35110000
A30: Otros costos | B30: =1253000+40000 -> 1293000
A31: TOTAL COSTOS DE VENTAS | C31: =SUM(B14:B30) -> 569555000
A33: UTILIDAD BRUTA EN VENTAS | C33: =C10-C31 -> 93531000
A35: GASTOS ORDINARIOS
A36: OPERACIONALES DE ADMINISTRACION
A37: Gastos de Personal | B37: 44305000
A38: Honorarios | B38: 2800000
A39: Impuestos | B39: 17000
A40: Arrendamientos | B40: 2750000
A41: Servicios | B41: 1524000
A42: Gastos legales | B42: 1278000
A43: Diversos | B43: 2189000
A44: TOTAL GASTO OPERACIONALES DE ADMINISTRACION | C44: =+SUM(B37:B43) -> 54863000
A46: OPERACIONALES DE VENTAS
...

Sheet ESF 2016
A1: LABS TRANSPORTE DE CARGA SAS
A2: NIT. 9 0 0 6 7 3 3 6 1 - 6
A4: ESTADO DE SITUACION FINANCIERA
A5: AL 31 DE DICIEMBRE DE 2016
A7: ACTIVO
A8: ACTIVO CORRIENTE
A9: EFECTIVO Y EQUIVALENTES DE EFECTIVO
A10: Caja | B10: 883000
A11: Bancolombia Cuenta de ahorros N° 26215832111 | B11: 2770000
A12: TOTAL EFECTIVO Y EQUIVALENTES DE EFECTIVO | C12: =+B10+B11 -> 3653000
A14: CUENTAS COMERCIALES Y OTRAS CUENTAS POR COBRAR
A15: Clientes | B15: 115549000
A16: Anticipos y avances | B16: 5358000
A17: Anticipos de Impuestos y Contribuciones | B17: =12496405.88-405.88 -> 12496000
A18: TOTAL CUENTAS COMERCIALES Y OTRAS CUENTAS POR COBRAR | C18: =SUM(B15:B17) -> 133403000
A20: TOTAL ACTIVO CORRIENTE | C20: =+C12+C18 -> 137056000
A22: ACTIVO NO CORRIENTE
A23: PROPIEDAD PLANTA Y EQUIPO
A24: EQUIPO DE OFICINA
A25: Muebles y enseres | B25: 1730000
A26: TOTAL EQUIPO DE OFICINA | C26: =+B25 -> 1730000
A28: EQUIPO DE COMPUTACION Y COMUNICACIÓN
A29: Equipos de procesamientos de datos | B29: 2800000
A30: TOTAL EQUIPO DE COMPUTACION Y COMUNICACIÓN | C30: =+B29 -> 2800000
A32: FLOTA Y EQUIPO DE TRANSPORTE
A33: Tractomulas y Remolques | B33: 751100000
A34: Depreciacion acumulada | B34: -35110000
A35: TOTAL FLOTA Y EQUIPO DE TRANSPORTE | C35: =+B34+B33 -> 715990000
A37: TOTAL PROPIEDAD PLANTA Y EQUIPO | C37: =SUM(C25:C36) -> 720520000
A39: INTANGIBLES
A40: Software contable | B40: 1469000
A41: TOTAL INTANGIBLES | C41: =+B40 -> 1469000
A43: TOTAL ACTIVO NO CORRIENTE | C43: =+C37+C41 -> 721989000
A45: TOTAL ACTIVO | C45: =+C20+C43 -> 859045000
A48: LABS TRANSPORTE DE CARGA SAS
A49: NIT. 9 0 0 6 7 3 3 6 1 - 6
A51: ESTADO DE SITUACION FINANCIERA
A52: AL 31 DE DICIEMBRE DE 2016
A54: PASIVO
A55: PROVEEDORES
...

Sheet ER 2015
A1: LABS TRANSPORTE DE CARGA SAS
A2: NIT. 9 0 0 6 7 3 3 6 1 - 6
A4: ESTADO DE RESULTADOS INTEGRAL Y OTROS RESULTADOS
A6: DESDE EL 01 DE ENERO AL 31 DE DICIEMBRE DE 2015
A8: INGRESOS OPERACIONALES
A9: Servicio de Transporte de carga por Carretera | B9: 285142000
A10: Otros ingresos no operacionales | B10: 59000000
A11: TOTAL INGRESOS | C11: =+B10+B9 -> 344142000
A13: COSTO DE VENTA
A14: SERVICIO DE TRANSPORTE DE CARGA POR CARRETERA
A15: Combustible | B15: 97524000
A16: Mantenimiento y reparaciones | B16: 29804000
A17: Lavadas | B17: 12173000
A18: Llantas | B18: 17658000
A19: Peajes | B19: 74879000
A20: Parqueos | B20: 10862000
A21: Otros costos | B21: 487000
A22: TOTAL COSTOS DE VENTAS | C22: =SUM(B15:B21) -> 243387000
A24: UTILIDAD BRUTA EN VENTAS | C24: =C11-C22 -> 100755000
A26: GASTOS
A27: GASTOS ORDINARIOS
A28: Gastos de Personal | B28: 13560000
A29: Arrendamientos | B29: 2400000
A30: Servicios | B30: 1107000
A31: Diversos | B31: 11476000
A32: TOTAL GASTOS ORDINARIOS | C32: =+SUM(B28:B31) -> 28543000
A34: TOTAL GASTOS OPERACIONALES | C34: =+C32 -> 28543000
A36: UTILIDAD OPERACIONAL | C36: =+C24-C34 -> 72212000
A38: INGRESOS NO OPERACIONALES
A39: Financieros | B39: 25000
A40: TOTAL INGRESOS NO OPERACIONALES | C40: =+B39 -> 25000
A42: GASTOS NO OPERACIONALES
A43: Gastos Diversos | B43: 3456000
A44: TOTAL GASTOS NO OPERACIONALES | C44: =+B43 -> 3456000
A46: UTILIDAD ANTES DE IMPUESTOS | C46: =+C36+C40-C44 -> 68781000
A48: IMPUESTOS Y GRAVAMENES
A49: Impuesto sobre la renta y complementarios | B49: =+C46*25%-250 -> 17195000
A50: Impuesto de renta para la equidad CREE | B50: 3768000
A51: TOTAL IMPUESTOS Y GRAVAMENES | C51: =+B49+B50 -> 20963000
A53: UTILIDAD DEL EJERCICIO | C53: =+C46-B49-B50 -> 47818000
...

Sheet ESF 2015
A1: LABS TRANSPORTE DE CARGA SAS
A2: NIT. 9 0 0 6 7 3 3 6 1 - 6
A4: ESTADO DE SITUACION FINANCIERA
A5: AL 31 DE DICIEMBRE DE 2015
A7: ACTIVO
A8: ACTIVO CORRIENTE
A10: EFECTIVO Y EQUIVALENTES DE EFECTIVO
A11: Caja y Bancos | B11: 3065000
A12: TOTAL EFECTIVO Y EQUIVALENTES DE EFECTIVO | C12: =B11 -> 3065000
A14: CUENTAS COMERCIALES Y OTRAS CUENTAS POR COBRAR
A15: Clientes | B15: =35816000+2029000 -> 37845000
A16: Anticipo de impuestos y contribuciones | B16: 6241000
A17: TOTAL CUENTAS COMERCIALES Y OTRAS CUENTAS POR COBRAR | C17: =+B15+B16 -> 44086000
A19: TOTAL ACTIVO CORRIENTE | C19: =+C12+C17 -> 47151000
A21: ACTIVO NO CORRIENTE
A22: PROPIEDAD PLANTA Y EQUIPO
A23: FLOTA Y EQUIPO DE TRANSPORTE
A24: Tractomulas y Remolques | B24: 751100000
A25: TOTAL FLOTA Y EQUIPO DE TRANSPORTE | C25: =+B24 -> 751100000
A27: TOTAL ACTIVO NO CORRIENTE | C27: =+C25 -> 751100000
A29: TOTAL ACTIVO | C29: =+C19+C27 -> 798251000
A31: PASIVO
A33: CUENTAS POR PAGAR COMERCIALES Y OTRAS CUENTAS POR PAGAR
A34: Retencion en la fuente | B34: 135000
A35: Retencion de ICA | B35: 23000
A36: Cuentas por pagar a socios y accionistas | B36: 103918000
A37: TOTAL CUENTAS POR PAGAR COMERCIALES Y OTRAS CUENTAS POR PAGAR | C37: =+SUM(B34:B36) -> 104076000
A39: PASIVO POR IMPUESTO CORRIENTE
A40: Impuesto de renta y complementarios | B40: =+'ER 2015'!B49 -> 17195000
A41: Impuesto de renta para la equidad CREE | B41: =+'ER 2015'!B50 -> 3768000
A42: TOTAL PASIVO POR IMPUESTO CORRIENTE | C42: =+B40+B41 -> 20963000
A44: TOTAL PASIVO | C44: =+C37+C42 -> 125039000
A46: LABS TRANSPORTE DE CARGA SAS
A47: NIT. 9 0 0 6 7 3 3 6 1 - 6
A48: ESTADO DE SITUACION FINANCIERA
A49: AL 31 DE DICIEMBRE DE 2015
A51: PATRIMONIO
A53: CAPITAL SUSCRITO Y PAGADO
A54: Capital Suscrito y Pagado | B54: 620000000
A55: TOTAL CAPITAL SOCIAL | C55: =+B54 -> 620000000
...

Sheet ER 2014
A1: LABS TRANSPORTE DE CARGA SAS
A2: NIT. 9 0 0 6 7 3 3 6 1 - 6
A4: ESTADO DE RESULTADOS
